BEGIN:VCALENDAR
VERSION:2.0
PRODID:-//ES·MAR - ECPv6.13.2.1//NONSGML v1.0//EN
CALSCALE:GREGORIAN
METHOD:PUBLISH
X-WR-CALNAME:ES·MAR
X-ORIGINAL-URL:https://rede-esmar.gal/es
X-WR-CALDESC:Eventos para ES·MAR
REFRESH-INTERVAL;VALUE=DURATION:PT1H
X-Robots-Tag:noindex
X-PUBLISHED-TTL:PT1H
BEGIN:VTIMEZONE
TZID:Europe/Paris
BEGIN:DAYLIGHT
TZOFFSETFROM:+0100
TZOFFSETTO:+0200
TZNAME:CEST
DTSTART:20250330T010000
END:DAYLIGHT
BEGIN:STANDARD
TZOFFSETFROM:+0200
TZOFFSETTO:+0100
TZNAME:CET
DTSTART:20251026T010000
END:STANDARD
END:VTIMEZONE
BEGIN:VEVENT
DTSTART;TZID=Europe/Paris:20250206T000000
DTEND;TZID=Europe/Paris:20250206T235959
DTSTAMP:20260420T150402
CREATED:20250131T160258Z
LAST-MODIFIED:20250204T144748Z
UID:1018-1738800000-1738886399@rede-esmar.gal
SUMMARY:📢 OBRADOIRO FORMATIVO: AXUDAS PARA O SECTOR DA ACUICULTURA 🌊🐟
DESCRIPTION:Se traballas no sector da acuicultura e buscas apoio para modernización\, sustentabilidade ou crecemento\, este obradoiro interésache! 📈💧 \n🔍 Descubre as oportunidades de financiamento para mellorar as instalacións\, optimizar os procesos produtivos e avanzar cara a unha acuicultura máis eficiente e responsable. \n📅 Data: 06/02 \n⏰ Hora: 12:00 h \n📌 Inscrición: https://shre.ink/b5b7 \n💻 Modalidade: Online a través de Zoom \n🌟 Aproveita esta oportunidade para facer medrar o teu proxecto acuícola!
URL:https://rede-esmar.gal/es/event/%f0%9f%93%a2-obradoiro-formativo-axudas-para-o-sector-da-acuicultura-%f0%9f%8c%8a%f0%9f%90%9f/
END:VEVENT
END:VCALENDAR