BEGIN:VCALENDAR
VERSION:2.0
PRODID:-//ES·MAR - ECPv6.13.2.1//NONSGML v1.0//EN
CALSCALE:GREGORIAN
METHOD:PUBLISH
X-ORIGINAL-URL:https://rede-esmar.gal/es
X-WR-CALDESC:Eventos para ES·MAR
REFRESH-INTERVAL;VALUE=DURATION:PT1H
X-Robots-Tag:noindex
X-PUBLISHED-TTL:PT1H
BEGIN:VTIMEZONE
TZID:Europe/Paris
BEGIN:DAYLIGHT
TZOFFSETFROM:+0100
TZOFFSETTO:+0200
TZNAME:CEST
DTSTART:20250330T010000
END:DAYLIGHT
BEGIN:STANDARD
TZOFFSETFROM:+0200
TZOFFSETTO:+0100
TZNAME:CET
DTSTART:20251026T010000
END:STANDARD
END:VTIMEZONE
BEGIN:VEVENT
DTSTART;TZID=Europe/Paris:20250313T140000
DTEND;TZID=Europe/Paris:20250313T150000
DTSTAMP:20260420T132901
CREATED:20250226T082355Z
LAST-MODIFIED:20250227T074453Z
UID:1743-1741874400-1741878000@rede-esmar.gal
SUMMARY:PLAN DE MARKETING B2B
DESCRIPTION:O teu negocio diríxese a outras empresas? Descobre como crear un plan de marketing eficaz para captar clientes e fortalecer a túa marca no sector marítimo-pesqueiro. \n📅 Data: Xoves 13 de marzo\n⏰ Hora: 13:00 h\n📍 Lugar: Oficina de Vilagarcía de Arousa – Centro de Negocios Garabulla Coworking\, Edificio Lara (Praza Galicia)\, Planta 2\, Módulo 5 – 36600 Vilagarcía de Arousa\n🔗 Modalidade: Presencial \nInscrición aquí! 
URL:https://rede-esmar.gal/es/event/plan-de-marketing-b2b/
ATTACH;FMTTYPE=image/png:https://rede-esmar.gal/wp-content/uploads/2025/02/3-1-e1740645887713.png
END:VEVENT
END:VCALENDAR