BEGIN:VCALENDAR
VERSION:2.0
PRODID:-//ES·MAR - ECPv6.13.2.1//NONSGML v1.0//EN
CALSCALE:GREGORIAN
METHOD:PUBLISH
X-ORIGINAL-URL:https://rede-esmar.gal/es
X-WR-CALDESC:Eventos para ES·MAR
REFRESH-INTERVAL;VALUE=DURATION:PT1H
X-Robots-Tag:noindex
X-PUBLISHED-TTL:PT1H
BEGIN:VTIMEZONE
TZID:Europe/Paris
BEGIN:DAYLIGHT
TZOFFSETFROM:+0100
TZOFFSETTO:+0200
TZNAME:CEST
DTSTART:20250330T010000
END:DAYLIGHT
BEGIN:STANDARD
TZOFFSETFROM:+0200
TZOFFSETTO:+0100
TZNAME:CET
DTSTART:20251026T010000
END:STANDARD
END:VTIMEZONE
BEGIN:VEVENT
DTSTART;TZID=Europe/Paris:20250317T130000
DTEND;TZID=Europe/Paris:20250317T140000
DTSTAMP:20260420T132733
CREATED:20250226T082700Z
LAST-MODIFIED:20250227T074026Z
UID:1746-1742216400-1742220000@rede-esmar.gal
SUMMARY:CREA A TÚA PROPIA TENDA ONLINE
DESCRIPTION:Queres vender os teus produtos a calquera lugar? Aprende a montar a túa tenda online e a expandir o teu negocio de forma eficiente. \n📅 Data: Luns 17 de marzo\n⏰ Hora: 12:00 h\n📍 Lugar: Oficina de A Coruña – C/ Cuesta de la Palloza\, Nº1 – 2ºDcha – Local 3 – 15006 A Coruña\n🔗 Modalidade: Presencial \nInscrición aquí!
URL:https://rede-esmar.gal/es/event/crea-a-tua-propia-tenda-online/
ATTACH;FMTTYPE=image/png:https://rede-esmar.gal/wp-content/uploads/2025/02/44-e1740645620571.png
END:VEVENT
END:VCALENDAR