BEGIN:VCALENDAR
VERSION:2.0
PRODID:-//ES·MAR - ECPv6.13.2.1//NONSGML v1.0//EN
CALSCALE:GREGORIAN
METHOD:PUBLISH
X-WR-CALNAME:ES·MAR
X-ORIGINAL-URL:https://rede-esmar.gal/es
X-WR-CALDESC:Eventos para ES·MAR
REFRESH-INTERVAL;VALUE=DURATION:PT1H
X-Robots-Tag:noindex
X-PUBLISHED-TTL:PT1H
BEGIN:VTIMEZONE
TZID:Europe/Paris
BEGIN:DAYLIGHT
TZOFFSETFROM:+0100
TZOFFSETTO:+0200
TZNAME:CEST
DTSTART:20250330T010000
END:DAYLIGHT
BEGIN:STANDARD
TZOFFSETFROM:+0200
TZOFFSETTO:+0100
TZNAME:CET
DTSTART:20251026T010000
END:STANDARD
END:VTIMEZONE
BEGIN:VEVENT
DTSTART;TZID=Europe/Paris:20250319T140000
DTEND;TZID=Europe/Paris:20250319T150000
DTSTAMP:20260420T132502
CREATED:20250226T082849Z
LAST-MODIFIED:20250227T074225Z
UID:1749-1742392800-1742396400@rede-esmar.gal
SUMMARY:PREPARANDO O FUTURO – RELEVO XERACIONAL NO SECTOR PESQUEIRO
DESCRIPTION:O relevo xeracional é clave para garantir a continuidade do sector pesqueiro. Neste obradoiro coñecerás estratexias para unha transición exitosa. \n📅 Data: Mércores 19 de marzo\n⏰ Hora: 13:00 h\n📍 Lugar: Oficina de Pontevedra – Rúa Rosalía de Castro\, Nº37 – 36001 Pontevedra\n🔗 Modalidade: Presencial \nInscrición aquí!
URL:https://rede-esmar.gal/es/event/preparando-o-futuro-relevo-xeracional-no-sector-pesqueiro/
ATTACH;FMTTYPE=image/png:https://rede-esmar.gal/wp-content/uploads/2025/02/55-1-e1740645701830.png
END:VEVENT
END:VCALENDAR