BEGIN:VCALENDAR
VERSION:2.0
PRODID:-//ES·MAR - ECPv6.13.2.1//NONSGML v1.0//EN
CALSCALE:GREGORIAN
METHOD:PUBLISH
X-ORIGINAL-URL:https://rede-esmar.gal/es
X-WR-CALDESC:Eventos para ES·MAR
REFRESH-INTERVAL;VALUE=DURATION:PT1H
X-Robots-Tag:noindex
X-PUBLISHED-TTL:PT1H
BEGIN:VTIMEZONE
TZID:Europe/Paris
BEGIN:DAYLIGHT
TZOFFSETFROM:+0100
TZOFFSETTO:+0200
TZNAME:CEST
DTSTART:20250330T010000
END:DAYLIGHT
BEGIN:STANDARD
TZOFFSETFROM:+0200
TZOFFSETTO:+0100
TZNAME:CET
DTSTART:20251026T010000
END:STANDARD
END:VTIMEZONE
BEGIN:VEVENT
DTSTART;TZID=Europe/Paris:20250430T163000
DTEND;TZID=Europe/Paris:20250430T180000
DTSTAMP:20260420T102508
CREATED:20250331T082704Z
LAST-MODIFIED:20250430T082541Z
UID:2103-1746030600-1746036000@rede-esmar.gal
SUMMARY:Metodoloxía de desenvolvemento e implementación da imaxe de marca en produtos pesqueiros
DESCRIPTION:¿Queres que o teu produto pesqueiro destaque no mercado? Aprende a construír unha marca sólida\, recoñecible e con valor engadido! 🌟📦\nDescobre como definir a identidade visual e estratéxica da túa marca\, conectar co consumidor e posicionarte de forma diferenciada.\n📅 Data: Mércores\, 30 de abril\n⏰ Hora: 16:30 h\n💻 Modalidade: Online \n\n  Inscrición aquí
URL:https://rede-esmar.gal/es/event/metodoloxia-de-desenvolvemento-e-implementacion-da-imaxe-de-marca-en-produtos-pesqueiros/
ATTACH;FMTTYPE=image/png:https://rede-esmar.gal/wp-content/uploads/2025/03/15.png
END:VEVENT
END:VCALENDAR