BEGIN:VCALENDAR
VERSION:2.0
PRODID:-//ES·MAR - ECPv6.13.2.1//NONSGML v1.0//EN
CALSCALE:GREGORIAN
METHOD:PUBLISH
X-WR-CALNAME:ES·MAR
X-ORIGINAL-URL:https://rede-esmar.gal/es
X-WR-CALDESC:Eventos para ES·MAR
REFRESH-INTERVAL;VALUE=DURATION:PT1H
X-Robots-Tag:noindex
X-PUBLISHED-TTL:PT1H
BEGIN:VTIMEZONE
TZID:Europe/Paris
BEGIN:DAYLIGHT
TZOFFSETFROM:+0100
TZOFFSETTO:+0200
TZNAME:CEST
DTSTART:20250330T010000
END:DAYLIGHT
BEGIN:STANDARD
TZOFFSETFROM:+0200
TZOFFSETTO:+0100
TZNAME:CET
DTSTART:20251026T010000
END:STANDARD
END:VTIMEZONE
BEGIN:VEVENT
DTSTART;TZID=Europe/Paris:20250512T130000
DTEND;TZID=Europe/Paris:20250512T143000
DTSTAMP:20260420T102432
CREATED:20250430T160552Z
LAST-MODIFIED:20250430T160552Z
UID:2404-1747054800-1747060200@rede-esmar.gal
SUMMARY:Xestión de axudas para empresas do sector do mar
DESCRIPTION:Queres coñecer as axudas dispoñibles para o teu negocio no sector do mar? Este obradoiro é para ti! 📝📈\nAprende a identificar\, solicitar e xestionar as principais liñas de apoio dispoñibles para empresas mariñas\, mellorando o acceso aos recursos públicos.\n📅 Data: Xoves\, 12 de maio\n⏰ Hora: 13:00 h\n💻 Modalidade: Online \n\n  Inscrición aquí
URL:https://rede-esmar.gal/es/event/xestion-de-axudas-para-empresas-do-sector-do-mar-2/
ATTACH;FMTTYPE=image/png:https://rede-esmar.gal/wp-content/uploads/2025/04/10.2-e1746029013574.png
END:VEVENT
END:VCALENDAR