BEGIN:VCALENDAR
VERSION:2.0
PRODID:-//ES·MAR - ECPv6.13.2.1//NONSGML v1.0//EN
CALSCALE:GREGORIAN
METHOD:PUBLISH
X-ORIGINAL-URL:https://rede-esmar.gal/es
X-WR-CALDESC:Eventos para ES·MAR
REFRESH-INTERVAL;VALUE=DURATION:PT1H
X-Robots-Tag:noindex
X-PUBLISHED-TTL:PT1H
BEGIN:VTIMEZONE
TZID:Europe/Paris
BEGIN:DAYLIGHT
TZOFFSETFROM:+0100
TZOFFSETTO:+0200
TZNAME:CEST
DTSTART:20250330T010000
END:DAYLIGHT
BEGIN:STANDARD
TZOFFSETFROM:+0200
TZOFFSETTO:+0100
TZNAME:CET
DTSTART:20251026T010000
END:STANDARD
END:VTIMEZONE
BEGIN:VEVENT
DTSTART;TZID=Europe/Paris:20250529T130000
DTEND;TZID=Europe/Paris:20250529T143000
DTSTAMP:20260420T083859
CREATED:20250430T161444Z
LAST-MODIFIED:20250519T155659Z
UID:2422-1748523600-1748529000@rede-esmar.gal
SUMMARY:Innovación no sector do mar. Como desenvolver novos productos e servizos
DESCRIPTION:A innovación é a clave para adaptarse aos cambios e abrir novas oportunidades de negocio. Neste obradoiro descubrirás como desenvolver novos produtos e servizos que respondan ás necesidades actuais do mercado mariño.\nInspírate\, innova e impulsa o futuro da túa empresa! 🚀\n📅 Data: Xoves\, 29 de maio\n⏰ Hora: 13:00 h\n💻 Modalidade: Online \n\n  Inscrición aquí
URL:https://rede-esmar.gal/es/event/innovacion-no-sector-do-mar-como-desenvolver-novos-productos-e-servizos/
ATTACH;FMTTYPE=image/png:https://rede-esmar.gal/wp-content/uploads/2025/04/OBRADOIRO-FORMATIVO-INNOVACION-NO-SECTOR-DO-MAR-e1747669811662.png
END:VEVENT
END:VCALENDAR