BEGIN:VCALENDAR
VERSION:2.0
PRODID:-//ES·MAR - ECPv6.13.2.1//NONSGML v1.0//EN
CALSCALE:GREGORIAN
METHOD:PUBLISH
X-ORIGINAL-URL:https://rede-esmar.gal/es
X-WR-CALDESC:Eventos para ES·MAR
REFRESH-INTERVAL;VALUE=DURATION:PT1H
X-Robots-Tag:noindex
X-PUBLISHED-TTL:PT1H
BEGIN:VTIMEZONE
TZID:Europe/Paris
BEGIN:DAYLIGHT
TZOFFSETFROM:+0100
TZOFFSETTO:+0200
TZNAME:CEST
DTSTART:20250330T010000
END:DAYLIGHT
BEGIN:STANDARD
TZOFFSETFROM:+0200
TZOFFSETTO:+0100
TZNAME:CET
DTSTART:20251026T010000
END:STANDARD
END:VTIMEZONE
BEGIN:VEVENT
DTSTART;TZID=Europe/Paris:20250602T130000
DTEND;TZID=Europe/Paris:20250602T143000
DTSTAMP:20260420T083900
CREATED:20250527T100611Z
LAST-MODIFIED:20250527T102930Z
UID:2722-1748869200-1748874600@rede-esmar.gal
SUMMARY:Estratexia en redes sociais para empresas do sector do mar
DESCRIPTION:Como pode a túa empresa do mar gañar visibilidade nas redes sociais?\nNeste obradoiro aprenderemos a empregar as plataformas dixitais para conectar con clientela\, comunicar o valor dos nosos produtos e reforzar a presenza en liña do sector.\n🗓️ Luns\, 2 de xuño ás 13:00 h\n💻 Modalidade en liña\nDá un impulso dixital ao teu proxecto. \n\n  Inscrición aquí
URL:https://rede-esmar.gal/es/event/estratexia-en-redes-sociais-para-empresas-do-sector-do-mar-2/
ATTACH;FMTTYPE=image/png:https://rede-esmar.gal/wp-content/uploads/2025/05/17-e1748340317607.png
END:VEVENT
END:VCALENDAR