BEGIN:VCALENDAR
VERSION:2.0
PRODID:-//ES·MAR - ECPv6.13.2.1//NONSGML v1.0//EN
CALSCALE:GREGORIAN
METHOD:PUBLISH
X-ORIGINAL-URL:https://rede-esmar.gal/es
X-WR-CALDESC:Eventos para ES·MAR
REFRESH-INTERVAL;VALUE=DURATION:PT1H
X-Robots-Tag:noindex
X-PUBLISHED-TTL:PT1H
BEGIN:VTIMEZONE
TZID:Europe/Paris
BEGIN:DAYLIGHT
TZOFFSETFROM:+0100
TZOFFSETTO:+0200
TZNAME:CEST
DTSTART:20250330T010000
END:DAYLIGHT
BEGIN:STANDARD
TZOFFSETFROM:+0200
TZOFFSETTO:+0100
TZNAME:CET
DTSTART:20251026T010000
END:STANDARD
END:VTIMEZONE
BEGIN:VEVENT
DTSTART;TZID=Europe/Paris:20250609T130000
DTEND;TZID=Europe/Paris:20250609T143000
DTSTAMP:20260420T083918
CREATED:20250527T100824Z
LAST-MODIFIED:20250527T145714Z
UID:2732-1749474000-1749479400@rede-esmar.gal
SUMMARY:Competencias dixitais básicas
DESCRIPTION:💻 Competencias dixitais básicas para avanzar no teu proxecto do mar\nTes unha idea ou empresa do mar e queres dar o salto dixital?\nEste obradoiro axudarate a manexar as ferramentas dixitais esenciais para xestionar mellor o teu negocio\, comunicar coa clientela e optimizar procesos desde o primeiro clic.\n🗓️ Luns\, 9 de xuño ás 13:00 h\n🏢 Modalidade presencial\n📍 Lugar: Praza Porta do Sol\, Nº12 – 1º – Oficina Nº2 – 15960 Ribeira (A Coruña)\nConéctate coa economía azul do futuro. \n\n  Inscrición aquí
URL:https://rede-esmar.gal/es/event/competencias-dixitais-basicas/
ATTACH;FMTTYPE=image/png:https://rede-esmar.gal/wp-content/uploads/2025/05/18.2-e1748357710532.png
END:VEVENT
END:VCALENDAR