BEGIN:VCALENDAR
VERSION:2.0
PRODID:-//ES·MAR - ECPv6.13.2.1//NONSGML v1.0//EN
CALSCALE:GREGORIAN
METHOD:PUBLISH
X-ORIGINAL-URL:https://rede-esmar.gal/es
X-WR-CALDESC:Eventos para ES·MAR
REFRESH-INTERVAL;VALUE=DURATION:PT1H
X-Robots-Tag:noindex
X-PUBLISHED-TTL:PT1H
BEGIN:VTIMEZONE
TZID:Europe/Paris
BEGIN:DAYLIGHT
TZOFFSETFROM:+0100
TZOFFSETTO:+0200
TZNAME:CEST
DTSTART:20250330T010000
END:DAYLIGHT
BEGIN:STANDARD
TZOFFSETFROM:+0200
TZOFFSETTO:+0100
TZNAME:CET
DTSTART:20251026T010000
END:STANDARD
END:VTIMEZONE
BEGIN:VEVENT
DTSTART;TZID=Europe/Paris:20250925T100000
DTEND;TZID=Europe/Paris:20250925T113000
DTSTAMP:20260420T034331
CREATED:20250828T111738Z
LAST-MODIFIED:20250828T111738Z
UID:9938-1758794400-1758799800@rede-esmar.gal
SUMMARY:Axudas FEMPA para buques pesqueiros
DESCRIPTION:⚓ Infórmate sobre as oportunidades de financiamento dispoñibles a través das axudas FEMPA para os buques pesqueiros.\n📅 Cando? Xoves\, 25 de setembro\n🕙 Hora: 10:00\n📍 Onde? Oficina de Ribeira (Praza Porta do Sol\, Nº2 – 1º – Oficina Nº2 – 15960 Ribeira\, A Coruña) \nInscrición aquí
URL:https://rede-esmar.gal/es/event/axudas-fempa-para-buques-pesqueiros/
ATTACH;FMTTYPE=image/png:https://rede-esmar.gal/wp-content/uploads/2025/08/35.png
END:VEVENT
END:VCALENDAR