BEGIN:VCALENDAR
VERSION:2.0
PRODID:-//ES·MAR - ECPv6.13.2.1//NONSGML v1.0//EN
CALSCALE:GREGORIAN
METHOD:PUBLISH
X-ORIGINAL-URL:https://rede-esmar.gal/es
X-WR-CALDESC:Eventos para ES·MAR
REFRESH-INTERVAL;VALUE=DURATION:PT1H
X-Robots-Tag:noindex
X-PUBLISHED-TTL:PT1H
BEGIN:VTIMEZONE
TZID:Europe/Paris
BEGIN:DAYLIGHT
TZOFFSETFROM:+0100
TZOFFSETTO:+0200
TZNAME:CEST
DTSTART:20250330T010000
END:DAYLIGHT
BEGIN:STANDARD
TZOFFSETFROM:+0200
TZOFFSETTO:+0100
TZNAME:CET
DTSTART:20251026T010000
END:STANDARD
END:VTIMEZONE
BEGIN:VEVENT
DTSTART;TZID=Europe/Paris:20251023T100000
DTEND;TZID=Europe/Paris:20251023T113000
DTSTAMP:20260420T020624
CREATED:20250926T115521Z
LAST-MODIFIED:20250926T115521Z
UID:14489-1761213600-1761219000@rede-esmar.gal
SUMMARY:Alternativas aos combustibles fósiles na frota pesqueira
DESCRIPTION:⚓ Descubre solucións sostibles para reducir a dependencia dos combustibles fósiles na frota pesqueira e avanzar cara unha economía azul máis limpa.\n📅 Cando? Xoves\, 23 de outubro\n🕙 Hora: 10:00\n💻 Modalidade: Online vía Zoom \nInscrición aquí
URL:https://rede-esmar.gal/es/event/alternativas-aos-combustibles-fosiles-na-frota-pesqueira/
ATTACH;FMTTYPE=image/png:https://rede-esmar.gal/wp-content/uploads/2025/09/OBRADOIRO-FORMATIVO-INNOVACION-NO-SECTOR-DO-MAR-3.png
END:VEVENT
END:VCALENDAR