BEGIN:VCALENDAR
VERSION:2.0
PRODID:-//ES·MAR - ECPv6.13.2.1//NONSGML v1.0//EN
CALSCALE:GREGORIAN
METHOD:PUBLISH
X-ORIGINAL-URL:https://rede-esmar.gal/es
X-WR-CALDESC:Eventos para ES·MAR
REFRESH-INTERVAL;VALUE=DURATION:PT1H
X-Robots-Tag:noindex
X-PUBLISHED-TTL:PT1H
BEGIN:VTIMEZONE
TZID:Europe/Paris
BEGIN:DAYLIGHT
TZOFFSETFROM:+0100
TZOFFSETTO:+0200
TZNAME:CEST
DTSTART:20250330T010000
END:DAYLIGHT
BEGIN:STANDARD
TZOFFSETFROM:+0200
TZOFFSETTO:+0100
TZNAME:CET
DTSTART:20251026T010000
END:STANDARD
END:VTIMEZONE
BEGIN:VEVENT
DTSTART;TZID=Europe/Paris:20251211T100000
DTEND;TZID=Europe/Paris:20251211T113000
DTSTAMP:20260419T224206
CREATED:20251125T093128Z
LAST-MODIFIED:20251125T093128Z
UID:14795-1765447200-1765452600@rede-esmar.gal
SUMMARY:Novas obrigas de facturación: VERI*FACTU
DESCRIPTION:📑 Prepárate para implementar Verifactu no teu negocio e coñecer o seu funcionamento. \n📅 Cando? Xoves\, 11 de decembro\n🕙 Hora: 10:00\n💻 Modalidade: Online vía Zoom \nInscrición aquí
URL:https://rede-esmar.gal/es/event/novas-obrigas-de-facturacion-verifactu/
ATTACH;FMTTYPE=image/png:https://rede-esmar.gal/wp-content/uploads/2025/11/1112.png
END:VEVENT
END:VCALENDAR