BEGIN:VCALENDAR
VERSION:2.0
PRODID:-//ES·MAR - ECPv6.13.2.1//NONSGML v1.0//EN
CALSCALE:GREGORIAN
METHOD:PUBLISH
X-ORIGINAL-URL:https://rede-esmar.gal/es
X-WR-CALDESC:Eventos para ES·MAR
REFRESH-INTERVAL;VALUE=DURATION:PT1H
X-Robots-Tag:noindex
X-PUBLISHED-TTL:PT1H
BEGIN:VTIMEZONE
TZID:Europe/Paris
BEGIN:DAYLIGHT
TZOFFSETFROM:+0100
TZOFFSETTO:+0200
TZNAME:CEST
DTSTART:20260329T010000
END:DAYLIGHT
BEGIN:STANDARD
TZOFFSETFROM:+0200
TZOFFSETTO:+0100
TZNAME:CET
DTSTART:20261025T010000
END:STANDARD
END:VTIMEZONE
BEGIN:VEVENT
DTSTART;TZID=Europe/Paris:20260120T100000
DTEND;TZID=Europe/Paris:20260120T113000
DTSTAMP:20260419T211832
CREATED:20251229T204555Z
LAST-MODIFIED:20251229T204555Z
UID:14937-1768903200-1768908600@rede-esmar.gal
SUMMARY:Axudas FEMPA para buques pesqueiros
DESCRIPTION:⚓ Coñece como acceder ás axudas FEMPA para o teu buque pesqueiro e prepara a túa solicitude con tempo.  \n📅 Cando? Martes\, 20 de xaneiro\n🕥 Hora: 10:00\n💻 Modalidade: Online vía Zoom \nInscrición aquí
URL:https://rede-esmar.gal/es/event/axudas-fempa-para-buques-pesqueiros-3/
ATTACH;FMTTYPE=image/png:https://rede-esmar.gal/wp-content/uploads/2025/12/2001.png
END:VEVENT
END:VCALENDAR