BEGIN:VCALENDAR
VERSION:2.0
PRODID:-//ES·MAR - ECPv6.13.2.1//NONSGML v1.0//EN
CALSCALE:GREGORIAN
METHOD:PUBLISH
X-WR-CALNAME:ES·MAR
X-ORIGINAL-URL:https://rede-esmar.gal/es
X-WR-CALDESC:Eventos para ES·MAR
REFRESH-INTERVAL;VALUE=DURATION:PT1H
X-Robots-Tag:noindex
X-PUBLISHED-TTL:PT1H
BEGIN:VTIMEZONE
TZID:Europe/Paris
BEGIN:DAYLIGHT
TZOFFSETFROM:+0100
TZOFFSETTO:+0200
TZNAME:CEST
DTSTART:20260329T010000
END:DAYLIGHT
BEGIN:STANDARD
TZOFFSETFROM:+0200
TZOFFSETTO:+0100
TZNAME:CET
DTSTART:20261025T010000
END:STANDARD
END:VTIMEZONE
BEGIN:VEVENT
DTSTART;TZID=Europe/Paris:20260224T100000
DTEND;TZID=Europe/Paris:20260224T110000
DTSTAMP:20260419T182939
CREATED:20260202T113540Z
LAST-MODIFIED:20260204T122546Z
UID:15047-1771927200-1771930800@rede-esmar.gal
SUMMARY:Impulsa a túa presenza en liña co deseño web e o SEO
DESCRIPTION:🌐 Descubre as claves dun bo deseño web e das técnicas básicas de SEO para mellorar a visibilidade do teu negocio e atraer novos clientes a través de internet.\n📅 Cando? Martes\, 24 de febreiro\n⏰ Hora: 10:00\n📍 Lugar: Oficina de Ribeira – Praza Porta do Sol\, Nº12 – 1º – Oficina Nº2 – 15960 Ribeira (A Coruña) \nInscrición aquí
URL:https://rede-esmar.gal/es/event/impulsa-a-tua-presenza-en-lina-co-deseno-web-e-o-seo/
LOCATION:Oficina de Ribeira\, Praza Porta do Sol\, Nº12 – 1º – Oficina Nº2 – 15960 Ribeira (A Coruña)\, A Coruña\, Spain
ATTACH;FMTTYPE=image/png:https://rede-esmar.gal/wp-content/uploads/2026/01/100-1.png
END:VEVENT
END:VCALENDAR