BEGIN:VCALENDAR
VERSION:2.0
PRODID:-//ES·MAR - ECPv6.13.2.1//NONSGML v1.0//EN
CALSCALE:GREGORIAN
METHOD:PUBLISH
X-ORIGINAL-URL:https://rede-esmar.gal/es
X-WR-CALDESC:Eventos para ES·MAR
REFRESH-INTERVAL;VALUE=DURATION:PT1H
X-Robots-Tag:noindex
X-PUBLISHED-TTL:PT1H
BEGIN:VTIMEZONE
TZID:Europe/Paris
BEGIN:DAYLIGHT
TZOFFSETFROM:+0100
TZOFFSETTO:+0200
TZNAME:CEST
DTSTART:20260329T010000
END:DAYLIGHT
BEGIN:STANDARD
TZOFFSETFROM:+0200
TZOFFSETTO:+0100
TZNAME:CET
DTSTART:20261025T010000
END:STANDARD
END:VTIMEZONE
BEGIN:VEVENT
DTSTART;TZID=Europe/Paris:20260303T103000
DTEND;TZID=Europe/Paris:20260303T113000
DTSTAMP:20260419T182547
CREATED:20260226T090714Z
LAST-MODIFIED:20260226T091910Z
UID:15337-1772533800-1772537400@rede-esmar.gal
SUMMARY:Emprendemento en acuicultura en Galicia.
DESCRIPTION:🌊 Descubre as claves para emprender no sector da acuicultura e coñece oportunidades reais de negocio en Galicia.\n📅 Cando? Martes\, 3 de marzo\n🕥 Hora: 10:30\n💻 Modalidade: Online \nInscrición aquí
URL:https://rede-esmar.gal/es/event/emprendemento-en-acuicultura-en-galicia-2/
ATTACH;FMTTYPE=image/png:https://rede-esmar.gal/wp-content/uploads/2026/02/03-03.png
END:VEVENT
END:VCALENDAR