BEGIN:VCALENDAR
VERSION:2.0
PRODID:-//ES·MAR - ECPv6.13.2.1//NONSGML v1.0//EN
CALSCALE:GREGORIAN
METHOD:PUBLISH
X-WR-CALNAME:ES·MAR
X-ORIGINAL-URL:https://rede-esmar.gal/es
X-WR-CALDESC:Eventos para ES·MAR
REFRESH-INTERVAL;VALUE=DURATION:PT1H
X-Robots-Tag:noindex
X-PUBLISHED-TTL:PT1H
BEGIN:VTIMEZONE
TZID:Europe/Paris
BEGIN:DAYLIGHT
TZOFFSETFROM:+0100
TZOFFSETTO:+0200
TZNAME:CEST
DTSTART:20250330T010000
END:DAYLIGHT
BEGIN:STANDARD
TZOFFSETFROM:+0200
TZOFFSETTO:+0100
TZNAME:CET
DTSTART:20251026T010000
END:STANDARD
END:VTIMEZONE
BEGIN:VEVENT
DTSTART;TZID=Europe/Paris:20250702T123000
DTEND;TZID=Europe/Paris:20250702T140000
DTSTAMP:20260420T051813
CREATED:20250626T161221Z
LAST-MODIFIED:20250701T072718Z
UID:2881-1751459400-1751464800@rede-esmar.gal
SUMMARY:Mantemento da cadea de frío
DESCRIPTION:🔵 ¿Traballas no sector do mar? Entón este obradoiro é para ti.\n❄️ Aprende a manter a cadea de frío e protexe a calidade dos teus produtos. \n📅 Cando? Mércores\, 2 de xullo\n🕛 Hora: 12:30\n💻 Onde? Online vía Zoom \n👉 Non perdas esta oportunidade e inscríbete! \nInscrición aquí
URL:https://rede-esmar.gal/es/event/mantemento-da-cadea-de-frio/
ATTACH;FMTTYPE=image/png:https://rede-esmar.gal/wp-content/uploads/2025/06/cad-frio-b--e1751268778529.png
END:VEVENT
BEGIN:VEVENT
DTSTART;TZID=Europe/Paris:20250709T093000
DTEND;TZID=Europe/Paris:20250709T110000
DTSTAMP:20260420T051813
CREATED:20250630T074728Z
LAST-MODIFIED:20250701T072641Z
UID:2898-1752053400-1752058800@rede-esmar.gal
SUMMARY:Innovación en produtos e servizos do mar
DESCRIPTION:🌊 Aposta pola innovación no sector do mar!\nUnha cita imprescindible para profesionais do mar que queren ir un paso máis alá: descubre novas ideas\, produtos e servizos que poden transformar o teu negocio.\n📅 Cando? Mércores\, 9 de xullo\n🕘Hora: 09:30\n💻 Onde? Online vía Zoom \nInscrición aquí
URL:https://rede-esmar.gal/es/event/innovacion-en-produtos-e-servizos-do-mar/
ATTACH;FMTTYPE=image/png:https://rede-esmar.gal/wp-content/uploads/2025/06/0907-e1751268716192.png
END:VEVENT
BEGIN:VEVENT
DTSTART;TZID=Europe/Paris:20250715T093000
DTEND;TZID=Europe/Paris:20250715T110000
DTSTAMP:20260420T051813
CREATED:20250630T134021Z
LAST-MODIFIED:20250701T072615Z
UID:2902-1752571800-1752577200@rede-esmar.gal
SUMMARY:Transformación dixital no sector pesqueiro
DESCRIPTION:💻 Prepárate para os retos do futuro e impulsa a eficiencia do teu negocio coas novas tecnoloxías.\n📅 Cando? Martes\, 15 de xullo\n🕐 Hora: 13:00\n🏢 Modalidade: presencial\n📍 Lugar: oficina de Ferrol\n📍 Enderezo: c/ María\, Nº117 – Baixo – Ferrol \nUn encontro clave para profesionais do mar que buscan innovar e avanzar. \nInscrición aquí
URL:https://rede-esmar.gal/es/event/transformacion-dixital-no-sector-pesqueiro/
ATTACH;FMTTYPE=image/png:https://rede-esmar.gal/wp-content/uploads/2025/06/1507-e1751290811353.png
END:VEVENT
BEGIN:VEVENT
DTSTART;TZID=Europe/Paris:20250721T093000
DTEND;TZID=Europe/Paris:20250721T110000
DTSTAMP:20260420T051813
CREATED:20250630T142125Z
LAST-MODIFIED:20250701T101903Z
UID:2906-1753090200-1753095600@rede-esmar.gal
SUMMARY:Deseño de experiencias de turismo mariñeiro e pesqueiro
DESCRIPTION:Aprende a crear propostas únicas que conecten co territorio e impulsen o desenvolvemento local.\n📅 Cando? Luns\, 21 de xullo\n🕘 Hora: 09:30\n🏢 Modalidade: presencial\n📍 Lugar: oficina de Ribeira\n📍 Enderezo: praza Porta do Sol\, nº12- 1º- oficina nº2 \nInscrición aquí
URL:https://rede-esmar.gal/es/event/deseno-de-experiencias-de-turismo-marineiro-e-pesqueiro/
ATTACH;FMTTYPE=image/png:https://rede-esmar.gal/wp-content/uploads/2025/06/2107-e1751293204113.png
END:VEVENT
BEGIN:VEVENT
DTSTART;TZID=Europe/Paris:20250723T130000
DTEND;TZID=Europe/Paris:20250723T143000
DTSTAMP:20260420T051813
CREATED:20250630T142616Z
LAST-MODIFIED:20250701T072438Z
UID:2909-1753275600-1753281000@rede-esmar.gal
SUMMARY:Xestión administrativa para pemes e autónomos
DESCRIPTION:📋 Mellora os procesos do teu negocio e aprende ferramentas clave para a xestión diaria.\n📅 Cando? Mércores\, 23 de xullo\n🕐 Hora: 13:00\n💻 Onde? Online vía Zoom \nUnha formación pensada para facilitar o traballo diario de profesionais e pequenas empresas. \nInscrición aquí
URL:https://rede-esmar.gal/es/event/xestion-administrativa-para-pemes-e-autonomos/
ATTACH;FMTTYPE=image/png:https://rede-esmar.gal/wp-content/uploads/2025/06/2307-e1751293491114.png
END:VEVENT
BEGIN:VEVENT
DTSTART;TZID=Europe/Paris:20250729T130000
DTEND;TZID=Europe/Paris:20250729T143000
DTSTAMP:20260420T051813
CREATED:20250630T143000Z
LAST-MODIFIED:20250811T080759Z
UID:2915-1753794000-1753799400@rede-esmar.gal
SUMMARY:Ferramentas de xestión empresarial
DESCRIPTION:🛠️ Descubre solucións prácticas para mellorar a organización e eficiencia do teu negocio\, optimizando a súa xestión.\n📅 Cando? Martes\, 29 de xullo\n🕐 Hora: 13:00\n💻 Onde? Online vía Zoom \nInscrición aquí
URL:https://rede-esmar.gal/es/event/ferramentas-de-xestion-empresarial/
ATTACH;FMTTYPE=image/png:https://rede-esmar.gal/wp-content/uploads/2025/06/2907-e1751293785591.png
END:VEVENT
END:VCALENDAR