BEGIN:VCALENDAR
VERSION:2.0
PRODID:-//ES·MAR - ECPv6.13.2.1//NONSGML v1.0//EN
CALSCALE:GREGORIAN
METHOD:PUBLISH
X-ORIGINAL-URL:https://rede-esmar.gal/es
X-WR-CALDESC:Eventos para ES·MAR
REFRESH-INTERVAL;VALUE=DURATION:PT1H
X-Robots-Tag:noindex
X-PUBLISHED-TTL:PT1H
BEGIN:VTIMEZONE
TZID:Europe/Paris
BEGIN:DAYLIGHT
TZOFFSETFROM:+0100
TZOFFSETTO:+0200
TZNAME:CEST
DTSTART:20260329T010000
END:DAYLIGHT
BEGIN:STANDARD
TZOFFSETFROM:+0200
TZOFFSETTO:+0100
TZNAME:CET
DTSTART:20261025T010000
END:STANDARD
END:VTIMEZONE
BEGIN:VEVENT
DTSTART;TZID=Europe/Paris:20260108T103000
DTEND;TZID=Europe/Paris:20260108T120000
DTSTAMP:20260419T194614
CREATED:20251229T202701Z
LAST-MODIFIED:20251229T202701Z
UID:14922-1767868200-1767873600@rede-esmar.gal
SUMMARY:Axudas FEMPA para a compra da primeira embarcación (PE119A)
DESCRIPTION:⚓ Pensando en dar o salto á túa primeira embarcación? Estas axudas poden ser a clave para iniciar con pé firme.  \n📅 Cando? Xoves\, 8 de xaneiro\n🕥 Hora: 10:30\n💻 Modalidade: Online vía Zoom \nInscrición aquí
URL:https://rede-esmar.gal/es/event/axudas-fempa-para-a-compra-da-primeira-embarcacion-pe119a/
ATTACH;FMTTYPE=image/png:https://rede-esmar.gal/wp-content/uploads/2025/12/0801.png
END:VEVENT
BEGIN:VEVENT
DTSTART;TZID=Europe/Paris:20260113T100000
DTEND;TZID=Europe/Paris:20260113T113000
DTSTAMP:20260419T194614
CREATED:20251229T203524Z
LAST-MODIFIED:20251229T203524Z
UID:14927-1768298400-1768303800@rede-esmar.gal
SUMMARY:Axudas para a restauración da biodiversidade e dos ecosistemas mariños (PE209B)
DESCRIPTION:🌊 Descubre como acceder ás axudas para restaurar a biodiversidade e protexer os ecosistemas mariños. \n📅 Cando? Martes\, 13 de xaneiro\n🕥 Hora: 10:00\n💻 Modalidade: Online vía Zoom \nInscrición aquí
URL:https://rede-esmar.gal/es/event/axudas-para-a-restauracion-da-biodiversidade-e-dos-ecosistemas-marinos-pe209b/
ATTACH;FMTTYPE=image/png:https://rede-esmar.gal/wp-content/uploads/2025/12/1301-1.png
END:VEVENT
BEGIN:VEVENT
DTSTART;TZID=Europe/Paris:20260115T103000
DTEND;TZID=Europe/Paris:20260115T120000
DTSTAMP:20260419T194614
CREATED:20251229T203802Z
LAST-MODIFIED:20251229T203802Z
UID:14931-1768473000-1768478400@rede-esmar.gal
SUMMARY:Axudas á rexeneración de bancos marisqueiros con perdas de produtividade (PE209H)
DESCRIPTION:🐚 Aprende como solicitar axudas para recuperar a produtividade dos bancos marisqueiros e impulsar a sostibilidade do sector.  \n📅 Cando? Xoves\, 15 de xaneiro\n🕥 Hora: 10:30\n📍 Lugar: Oficina de Pontevedra – Rúa Rosalía de Castro\, Nº37 – 36001 Pontevedra \nInscrición aquí
URL:https://rede-esmar.gal/es/event/axudas-a-rexeneracion-de-bancos-marisqueiros-con-perdas-de-produtividade-pe209h/
ATTACH;FMTTYPE=image/png:https://rede-esmar.gal/wp-content/uploads/2025/12/1501.png
END:VEVENT
BEGIN:VEVENT
DTSTART;TZID=Europe/Paris:20260120T100000
DTEND;TZID=Europe/Paris:20260120T113000
DTSTAMP:20260419T194614
CREATED:20251229T204555Z
LAST-MODIFIED:20251229T204555Z
UID:14937-1768903200-1768908600@rede-esmar.gal
SUMMARY:Axudas FEMPA para buques pesqueiros
DESCRIPTION:⚓ Coñece como acceder ás axudas FEMPA para o teu buque pesqueiro e prepara a túa solicitude con tempo.  \n📅 Cando? Martes\, 20 de xaneiro\n🕥 Hora: 10:00\n💻 Modalidade: Online vía Zoom \nInscrición aquí
URL:https://rede-esmar.gal/es/event/axudas-fempa-para-buques-pesqueiros-3/
ATTACH;FMTTYPE=image/png:https://rede-esmar.gal/wp-content/uploads/2025/12/2001.png
END:VEVENT
BEGIN:VEVENT
DTSTART;TZID=Europe/Paris:20260121T103000
DTEND;TZID=Europe/Paris:20260121T120000
DTSTAMP:20260419T194614
CREATED:20260108T175329Z
LAST-MODIFIED:20260108T175329Z
UID:14956-1768991400-1768996800@rede-esmar.gal
SUMMARY:Tramitación de solicitudes de axudas FEMPA
DESCRIPTION:🧭 Aprende\, paso a paso\, como tramitar a túa solicitude de forma efectiva. \n📅 Cando? Mércores\, 21 de xaneiro\n🕥 Hora: 10:30\n💻 Modalidade: Online vía Zoom \nInscrición aquí
URL:https://rede-esmar.gal/es/event/tramitacion-de-solicitudes-de-axudas-fempa-3/
ATTACH;FMTTYPE=image/png:https://rede-esmar.gal/wp-content/uploads/2026/01/2101.png
END:VEVENT
BEGIN:VEVENT
DTSTART;TZID=Europe/Paris:20260122T103000
DTEND;TZID=Europe/Paris:20260122T120000
DTSTAMP:20260419T194614
CREATED:20251229T204117Z
LAST-MODIFIED:20260108T152225Z
UID:14934-1769077800-1769083200@rede-esmar.gal
SUMMARY:Axudas FEMPA para a transformación de produtos pesqueiros e de acuicultura (PE201B)
DESCRIPTION:🐟 Descubre as claves para financiar proxectos de transformación no sector pesqueiro e acuícola: investimentos\, requisitos e documentación imprescindible. \n📅 Cando? Xoves\, 22 de xaneiro\n🕥 Hora: 10:30\n📍 Lugar: Oficina de Ferrol – C/ María\, Nº117 (Baixo)\, Ferrol \nInscrición aquí
URL:https://rede-esmar.gal/es/event/axudas-fempa-para-a-transformacion-de-produtos-pesqueiros-e-de-acuicultura-pe155c/
ATTACH;FMTTYPE=image/png:https://rede-esmar.gal/wp-content/uploads/2025/12/2201-1.png
END:VEVENT
END:VCALENDAR