BEGIN:VCALENDAR
VERSION:2.0
PRODID:-//ES·MAR - ECPv6.13.2.1//NONSGML v1.0//EN
CALSCALE:GREGORIAN
METHOD:PUBLISH
X-ORIGINAL-URL:https://rede-esmar.gal/es
X-WR-CALDESC:Eventos para ES·MAR
REFRESH-INTERVAL;VALUE=DURATION:PT1H
X-Robots-Tag:noindex
X-PUBLISHED-TTL:PT1H
BEGIN:VTIMEZONE
TZID:Europe/Paris
BEGIN:DAYLIGHT
TZOFFSETFROM:+0100
TZOFFSETTO:+0200
TZNAME:CEST
DTSTART:20260329T010000
END:DAYLIGHT
BEGIN:STANDARD
TZOFFSETFROM:+0200
TZOFFSETTO:+0100
TZNAME:CET
DTSTART:20261025T010000
END:STANDARD
END:VTIMEZONE
BEGIN:VEVENT
DTSTART;TZID=Europe/Paris:20260210T103000
DTEND;TZID=Europe/Paris:20260210T113000
DTSTAMP:20260419T182114
CREATED:20260202T113325Z
LAST-MODIFIED:20260204T123241Z
UID:15036-1770719400-1770723000@rede-esmar.gal
SUMMARY:Iniciación ao mundo fiscal para pemes e autónomos
DESCRIPTION:💼 Unha sesión introdutoria para comprender os fundamentos da fiscalidade e aplicalos correctamente na actividade diaria dunha pequena empresa ou dun profesional autónomo. \n📅 Cando? Martes\, 10 de febreiro\n⏰ Hora: 10:30\n💻 Modalidade: Online vía Zoom \nInscrición aquí
URL:https://rede-esmar.gal/es/event/iniciacion-ao-mundo-fiscal-para-pemes-e-autonomos/
ATTACH;FMTTYPE=image/png:https://rede-esmar.gal/wp-content/uploads/2026/01/96-1.png
END:VEVENT
BEGIN:VEVENT
DTSTART;TZID=Europe/Paris:20260216T100000
DTEND;TZID=Europe/Paris:20260216T110000
DTSTAMP:20260419T182114
CREATED:20260202T113344Z
LAST-MODIFIED:20260204T123209Z
UID:15040-1771236000-1771239600@rede-esmar.gal
SUMMARY:Organiza e profesionaliza a xestión diaria da túa empresa do mar
DESCRIPTION:📊 Unha sesión práctica para mellorar procesos internos\, optimizar tarefas e incorporar ferramentas que profesionalizan a xestión diaria dunha empresa do mar. \n📅 Cando? Luns\, 16 de febreiro\n⏰ Hora: 10:00\n💻 Modalidade: Online vía Zoom \nInscrición aquí
URL:https://rede-esmar.gal/es/event/organiza-e-profesionaliza-a-xestion-diaria-da-tua-empresa-do-mar/
ATTACH;FMTTYPE=image/png:https://rede-esmar.gal/wp-content/uploads/2026/01/97.png
END:VEVENT
BEGIN:VEVENT
DTSTART;TZID=Europe/Paris:20260219T103000
DTEND;TZID=Europe/Paris:20260219T113000
DTSTAMP:20260419T182114
CREATED:20260202T113456Z
LAST-MODIFIED:20260204T162135Z
UID:15044-1771497000-1771500600@rede-esmar.gal
SUMMARY:Competitividade no sector do mar
DESCRIPTION:📈 Aprende a identificar vantaxes competitivas\, mellorar procesos e reforzar a posición da túa empresa nun mercado en constante evolución. \n📅 Cando? Xoves\, 19 de febreiro\n⏰ Hora: 10:30\n📍 Lugar: Oficina de Vilagarcía de Arousa – Centro de Negocios Garabulla Coworking\, Edificio Lara (Praza Galicia)\, Planta 2\, Módulo 5
URL:https://rede-esmar.gal/es/event/competitividade-no-sector-do-ma/
LOCATION:Oficina de Vilagarcía de Arousa\, Centro de Negocios Garabulla Coworking\, Edificio Lara (Praza Galicia)\, Planta 2\, Módulo 5
ATTACH;FMTTYPE=image/png:https://rede-esmar.gal/wp-content/uploads/2026/01/98.png
END:VEVENT
BEGIN:VEVENT
DTSTART;TZID=Europe/Paris:20260224T100000
DTEND;TZID=Europe/Paris:20260224T110000
DTSTAMP:20260419T182114
CREATED:20260202T113540Z
LAST-MODIFIED:20260204T122546Z
UID:15047-1771927200-1771930800@rede-esmar.gal
SUMMARY:Impulsa a túa presenza en liña co deseño web e o SEO
DESCRIPTION:🌐 Descubre as claves dun bo deseño web e das técnicas básicas de SEO para mellorar a visibilidade do teu negocio e atraer novos clientes a través de internet.\n📅 Cando? Martes\, 24 de febreiro\n⏰ Hora: 10:00\n📍 Lugar: Oficina de Ribeira – Praza Porta do Sol\, Nº12 – 1º – Oficina Nº2 – 15960 Ribeira (A Coruña) \nInscrición aquí
URL:https://rede-esmar.gal/es/event/impulsa-a-tua-presenza-en-lina-co-deseno-web-e-o-seo/
LOCATION:Oficina de Ribeira\, Praza Porta do Sol\, Nº12 – 1º – Oficina Nº2 – 15960 Ribeira (A Coruña)\, A Coruña\, Spain
ATTACH;FMTTYPE=image/png:https://rede-esmar.gal/wp-content/uploads/2026/01/100-1.png
END:VEVENT
BEGIN:VEVENT
DTSTART;TZID=Europe/Paris:20260226T103000
DTEND;TZID=Europe/Paris:20260226T113000
DTSTAMP:20260419T182114
CREATED:20260202T113536Z
LAST-MODIFIED:20260204T162720Z
UID:15050-1772101800-1772105400@rede-esmar.gal
SUMMARY:Canva. Que pode facer esta ferramenta polo meu negocio?
DESCRIPTION:🎨 Aprende a crear deseños profesionais e atractivos con Canva para mellorar a comunicación visual e reforzar a identidade do teu negocio. \n📅 Cando? Xoves\, 26 de febreiro\n⏰ Hora: 10:30\n💻 Modalidade: Online vía Zoom \nInscrición aquí
URL:https://rede-esmar.gal/es/event/canva-que-pode-facer-esta-ferramenta-polo-meu-negocio/
ATTACH;FMTTYPE=image/png:https://rede-esmar.gal/wp-content/uploads/2026/02/OBRADOIRO-FORMATIVO-INNOVACION-NO-SECTOR-DO-MAR.png
END:VEVENT
END:VCALENDAR