BEGIN:VCALENDAR
VERSION:2.0
PRODID:-//ES·MAR - ECPv6.13.2.1//NONSGML v1.0//EN
CALSCALE:GREGORIAN
METHOD:PUBLISH
X-WR-CALNAME:ES·MAR
X-ORIGINAL-URL:https://rede-esmar.gal
X-WR-CALDESC:Events for ES·MAR
REFRESH-INTERVAL;VALUE=DURATION:PT1H
X-Robots-Tag:noindex
X-PUBLISHED-TTL:PT1H
BEGIN:VTIMEZONE
TZID:Europe/Paris
BEGIN:DAYLIGHT
TZOFFSETFROM:+0100
TZOFFSETTO:+0200
TZNAME:CEST
DTSTART:20250330T010000
END:DAYLIGHT
BEGIN:STANDARD
TZOFFSETFROM:+0200
TZOFFSETTO:+0100
TZNAME:CET
DTSTART:20251026T010000
END:STANDARD
END:VTIMEZONE
BEGIN:VEVENT
DTSTART;TZID=Europe/Paris:20250422T140000
DTEND;TZID=Europe/Paris:20250422T153000
DTSTAMP:20260421T001543
CREATED:20250331T082037Z
LAST-MODIFIED:20250331T082855Z
UID:2099-1745330400-1745335800@rede-esmar.gal
SUMMARY:Mellora da eficiencia operativa da túa empresa
DESCRIPTION:¿Queres optimizar procesos\, reducir custos e mellorar a rendibilidade da túa empresa? Este obradoiro achegarache ferramentas e estratexias prácticas para conseguilo! 🚀💼\nAprenderás a identificar puntos de mellora e aplicar metodoloxías que impulsen a eficiencia no día a día da túa empresa.\n📅 Data: Martes\, 22 de abril\n⏰ Hora: 13:00 h\n📍 Modalidade: Presencial\n📌 Lugar: Rúa Rosalía de Castro\, Nº37 – 36001 Pontevedra\n📝 Inscrición aquí
URL:https://rede-esmar.gal/event/mellora-da-eficiencia-operativa-da-tua-empresa/
ATTACH;FMTTYPE=image/png:https://rede-esmar.gal/wp-content/uploads/2025/03/13-1-e1743412832675.png
END:VEVENT
BEGIN:VEVENT
DTSTART;TZID=Europe/Paris:20250424T173000
DTEND;TZID=Europe/Paris:20250424T190000
DTSTAMP:20260421T001543
CREATED:20250331T082428Z
LAST-MODIFIED:20250422T162831Z
UID:2101-1745515800-1745521200@rede-esmar.gal
SUMMARY:Xestión de axudas para empresas do sector do mar
DESCRIPTION:¿Sabes que axudas están dispoñibles para a túa empresa? ¿Queres aprender a solicitalas de forma efectiva? Este obradoiro é para ti! 📝📈\nCoñecerás as principais liñas de apoio e aprenderás a xestionalas paso a paso\, resolvendo dúbidas e mellorando o acceso aos fondos.\n📅 Data: Xoves\, 24 de abril\n⏰ Hora: 16:30 h\n📍 Modalidade: Presencial\n📌 Lugar: C/ Lavandeiras\, Nº6 – 27863 Viveiro (Lugo) \n\n  Inscrición aquí
URL:https://rede-esmar.gal/event/xestion-de-axudas-para-empresas-do-sector-do-mar/
ATTACH;FMTTYPE=image/png:https://rede-esmar.gal/wp-content/uploads/2025/03/14-e1743413030596.png
END:VEVENT
BEGIN:VEVENT
DTSTART;TZID=Europe/Paris:20250430T163000
DTEND;TZID=Europe/Paris:20250430T180000
DTSTAMP:20260421T001543
CREATED:20250331T082704Z
LAST-MODIFIED:20250430T082541Z
UID:2103-1746030600-1746036000@rede-esmar.gal
SUMMARY:Metodoloxía de desenvolvemento e implementación da imaxe de marca en produtos pesqueiros
DESCRIPTION:¿Queres que o teu produto pesqueiro destaque no mercado? Aprende a construír unha marca sólida\, recoñecible e con valor engadido! 🌟📦\nDescobre como definir a identidade visual e estratéxica da túa marca\, conectar co consumidor e posicionarte de forma diferenciada.\n📅 Data: Mércores\, 30 de abril\n⏰ Hora: 16:30 h\n💻 Modalidade: Online \n\n  Inscrición aquí
URL:https://rede-esmar.gal/event/metodoloxia-de-desenvolvemento-e-implementacion-da-imaxe-de-marca-en-produtos-pesqueiros/
ATTACH;FMTTYPE=image/png:https://rede-esmar.gal/wp-content/uploads/2025/03/15.png
END:VEVENT
BEGIN:VEVENT
DTSTART;TZID=Europe/Paris:20250507T130000
DTEND;TZID=Europe/Paris:20250507T143000
DTSTAMP:20260421T001543
CREATED:20250430T160106Z
LAST-MODIFIED:20250430T160620Z
UID:2399-1746622800-1746628200@rede-esmar.gal
SUMMARY:Plan de marketing B2B
DESCRIPTION:Queres mellorar a túa estratexia de marketing dirixida a outras empresas? Este obradoiro é para ti! 🏢✨\nAprende a deseñar un plan de marketing B2B efectivo\, adaptado ás necesidades reais do sector mariño e industrial\, para captar novos clientes e reforzar as relacións comerciais.\n📅 Data: Mércores\, 07 de maio\n⏰ Hora: 13:00 h\n💻 Modalidade: Online \n\n  Inscrición aquí
URL:https://rede-esmar.gal/event/plan-de-marketing-b2b-2/
ATTACH;FMTTYPE=image/png:https://rede-esmar.gal/wp-content/uploads/2025/04/9.2-e1746028836138.png
END:VEVENT
BEGIN:VEVENT
DTSTART;TZID=Europe/Paris:20250512T130000
DTEND;TZID=Europe/Paris:20250512T143000
DTSTAMP:20260421T001543
CREATED:20250430T160552Z
LAST-MODIFIED:20250430T160552Z
UID:2404-1747054800-1747060200@rede-esmar.gal
SUMMARY:Xestión de axudas para empresas do sector do mar
DESCRIPTION:Queres coñecer as axudas dispoñibles para o teu negocio no sector do mar? Este obradoiro é para ti! 📝📈\nAprende a identificar\, solicitar e xestionar as principais liñas de apoio dispoñibles para empresas mariñas\, mellorando o acceso aos recursos públicos.\n📅 Data: Xoves\, 12 de maio\n⏰ Hora: 13:00 h\n💻 Modalidade: Online \n\n  Inscrición aquí
URL:https://rede-esmar.gal/event/xestion-de-axudas-para-empresas-do-sector-do-mar-2/
ATTACH;FMTTYPE=image/png:https://rede-esmar.gal/wp-content/uploads/2025/04/10.2-e1746029013574.png
END:VEVENT
BEGIN:VEVENT
DTSTART;TZID=Europe/Paris:20250513T130000
DTEND;TZID=Europe/Paris:20250513T143000
DTSTAMP:20260421T001543
CREATED:20250430T160809Z
LAST-MODIFIED:20250430T160809Z
UID:2409-1747141200-1747146600@rede-esmar.gal
SUMMARY:Internacionalización de productos pesqueiros
DESCRIPTION:Queres que os teus produtos pesqueiros crucen fronteiras? Este obradoiro é para ti! ✈️📦\nDescubre como planificar a internacionalización do teu negocio\, adaptarte a novos mercados e impulsar a competitividade a nivel global.\n📅 Data: Martes\, 13 de maio\n⏰ Hora: 13:00 h\n💻 Modalidade: Online \n\n  Inscrición aquí
URL:https://rede-esmar.gal/event/internacionalizacion-de-productos-pesqueiros/
ATTACH;FMTTYPE=image/png:https://rede-esmar.gal/wp-content/uploads/2025/04/11.2-e1746029213200.png
END:VEVENT
BEGIN:VEVENT
DTSTART;TZID=Europe/Paris:20250515T123000
DTEND;TZID=Europe/Paris:20250515T140000
DTSTAMP:20260421T001543
CREATED:20250430T161024Z
LAST-MODIFIED:20250430T161024Z
UID:2413-1747312200-1747317600@rede-esmar.gal
SUMMARY:Impulsa a túa presenza online con deseño web e posicionamento en buscadores
DESCRIPTION:Unha páxina web atractiva e ben posicionada é clave para facer medrar o teu negocio. Neste obradoiro aprenderás os fundamentos do deseño web profesional e as técnicas básicas de SEO para que os teus clientes te atopen máis facilmente.\nMellora a visibilidade do teu proxecto e destaca no mundo dixital!\n📅 Data: Xoves\, 15 de maio\n⏰ Hora: 12:30 h\n📍 Modalidade: Presencial\n📌 Lugar: Praza Porta do Sol\, Nº12 – 1º – Oficina Nº2 – 15960 Ribeira (A Coruña) \n\n  Inscrición aquí
URL:https://rede-esmar.gal/event/impulsa-a-tua-presenza-online-con-deseno-web-e-posicionamento-en-buscadores/
ATTACH;FMTTYPE=image/png:https://rede-esmar.gal/wp-content/uploads/2025/04/12-e1746029321946.png
END:VEVENT
BEGIN:VEVENT
DTSTART;TZID=Europe/Paris:20250523T123000
DTEND;TZID=Europe/Paris:20250523T140000
DTSTAMP:20260421T001543
CREATED:20250430T161216Z
LAST-MODIFIED:20250515T164658Z
UID:2418-1748003400-1748008800@rede-esmar.gal
SUMMARY:Preparando o futuro. Relevo xeracional no sector pesqueiro
DESCRIPTION:Garantir o futuro do sector pesqueiro pasa por planificar o relevo xeracional. Neste obradoiro abordaremos estratexias prácticas para xestionar a transición empresarial\, conservar o coñecemento e atraer novo talento ao sector.\nUn paso clave para asegurar a continuidade e a sustentabilidade das nosas empresas! 🌊\n📅 Data: Venres\, 23 de maio\n⏰ Hora: 12:30 h\n📍 Modalidade: Presencial\n📌 Lugar: Rúa Rosalía de Castro\, Nº37 – 36001 Pontevedra \n\n  Inscrición aquí
URL:https://rede-esmar.gal/event/preparando-o-futuro-relevo-xeracional-no-sector-pesqueiro-2/
ATTACH;FMTTYPE=image/png:https://rede-esmar.gal/wp-content/uploads/2025/04/OBRADOIRO-FORMATIVO-INNOVACION-NO-SECTOR-DO-MAR-7-e1747327595208.png
END:VEVENT
BEGIN:VEVENT
DTSTART;TZID=Europe/Paris:20250527T130000
DTEND;TZID=Europe/Paris:20250527T143000
DTSTAMP:20260421T001543
CREATED:20250430T161636Z
LAST-MODIFIED:20250430T161636Z
UID:2427-1748350800-1748356200@rede-esmar.gal
SUMMARY:Crea a túa propia tienda online
DESCRIPTION:Queres dar o salto ao comercio electrónico? Neste obradoiro práctico aprenderás os pasos básicos para crear e lanzar a túa propia tenda online\, desde a elección da plataforma ata a xestión dos primeiros pedidos.\nAbre o teu negocio ao mundo e comeza a vender na rede! 🚀\n📅 Data: Martes\, 27 de maio\n⏰ Hora: 13:00 h\n💻 Modalidade: Online \n\n  Inscrición aquí
URL:https://rede-esmar.gal/event/crea-a-tua-propia-tienda-online/
ATTACH;FMTTYPE=image/png:https://rede-esmar.gal/wp-content/uploads/2025/04/15.2-e1746029715425.png
END:VEVENT
BEGIN:VEVENT
DTSTART;TZID=Europe/Paris:20250529T130000
DTEND;TZID=Europe/Paris:20250529T143000
DTSTAMP:20260421T001543
CREATED:20250430T161444Z
LAST-MODIFIED:20250519T155659Z
UID:2422-1748523600-1748529000@rede-esmar.gal
SUMMARY:Innovación no sector do mar. Como desenvolver novos productos e servizos
DESCRIPTION:A innovación é a clave para adaptarse aos cambios e abrir novas oportunidades de negocio. Neste obradoiro descubrirás como desenvolver novos produtos e servizos que respondan ás necesidades actuais do mercado mariño.\nInspírate\, innova e impulsa o futuro da túa empresa! 🚀\n📅 Data: Xoves\, 29 de maio\n⏰ Hora: 13:00 h\n💻 Modalidade: Online \n\n  Inscrición aquí
URL:https://rede-esmar.gal/event/innovacion-no-sector-do-mar-como-desenvolver-novos-productos-e-servizos/
ATTACH;FMTTYPE=image/png:https://rede-esmar.gal/wp-content/uploads/2025/04/OBRADOIRO-FORMATIVO-INNOVACION-NO-SECTOR-DO-MAR-e1747669811662.png
END:VEVENT
BEGIN:VEVENT
DTSTART;TZID=Europe/Paris:20250602T130000
DTEND;TZID=Europe/Paris:20250602T143000
DTSTAMP:20260421T001543
CREATED:20250527T100611Z
LAST-MODIFIED:20250527T102930Z
UID:2722-1748869200-1748874600@rede-esmar.gal
SUMMARY:Estratexia en redes sociais para empresas do sector do mar
DESCRIPTION:Como pode a túa empresa do mar gañar visibilidade nas redes sociais?\nNeste obradoiro aprenderemos a empregar as plataformas dixitais para conectar con clientela\, comunicar o valor dos nosos produtos e reforzar a presenza en liña do sector.\n🗓️ Luns\, 2 de xuño ás 13:00 h\n💻 Modalidade en liña\nDá un impulso dixital ao teu proxecto. \n\n  Inscrición aquí
URL:https://rede-esmar.gal/event/estratexia-en-redes-sociais-para-empresas-do-sector-do-mar-2/
ATTACH;FMTTYPE=image/png:https://rede-esmar.gal/wp-content/uploads/2025/05/17-e1748340317607.png
END:VEVENT
BEGIN:VEVENT
DTSTART;TZID=Europe/Paris:20250609T130000
DTEND;TZID=Europe/Paris:20250609T143000
DTSTAMP:20260421T001543
CREATED:20250527T100824Z
LAST-MODIFIED:20250527T145714Z
UID:2732-1749474000-1749479400@rede-esmar.gal
SUMMARY:Competencias dixitais básicas
DESCRIPTION:💻 Competencias dixitais básicas para avanzar no teu proxecto do mar\nTes unha idea ou empresa do mar e queres dar o salto dixital?\nEste obradoiro axudarate a manexar as ferramentas dixitais esenciais para xestionar mellor o teu negocio\, comunicar coa clientela e optimizar procesos desde o primeiro clic.\n🗓️ Luns\, 9 de xuño ás 13:00 h\n🏢 Modalidade presencial\n📍 Lugar: Praza Porta do Sol\, Nº12 – 1º – Oficina Nº2 – 15960 Ribeira (A Coruña)\nConéctate coa economía azul do futuro. \n\n  Inscrición aquí
URL:https://rede-esmar.gal/event/competencias-dixitais-basicas/
ATTACH;FMTTYPE=image/png:https://rede-esmar.gal/wp-content/uploads/2025/05/18.2-e1748357710532.png
END:VEVENT
BEGIN:VEVENT
DTSTART;TZID=Europe/Paris:20250613T093000
DTEND;TZID=Europe/Paris:20250613T230000
DTSTAMP:20260421T001543
CREATED:20250527T101035Z
LAST-MODIFIED:20250527T122809Z
UID:2736-1749807000-1749855600@rede-esmar.gal
SUMMARY:Marca que navega: employer branding e marca persoal no mar
DESCRIPTION:Queres atraer talento e destacar no sector?\nNeste obradoiro traballaremos como construír unha marca empregadora sólida e desenvolver unha identidade profesional coherente co teu proxecto no ámbito da economía azul.\n🗓️ Venres\, 13 de xuño\n⏰ Ás 09:30 h\n🏢 Modalidade presencial\n📍 Lugar: C/ Costa da Palloza\, Nº1 – 2ºDcha – Local 3 – 15006 A Coruña \n\n  Inscrición aquí
URL:https://rede-esmar.gal/event/marca-que-navega-employer-branding-e-marca-persoal-no-mar/
ATTACH;FMTTYPE=image/png:https://rede-esmar.gal/wp-content/uploads/2025/05/19-e1748340625770.png
END:VEVENT
BEGIN:VEVENT
DTSTART;TZID=Europe/Paris:20250616T130000
DTEND;TZID=Europe/Paris:20250616T143000
DTSTAMP:20260421T001543
CREATED:20250527T101156Z
LAST-MODIFIED:20250527T111117Z
UID:2740-1750078800-1750084200@rede-esmar.gal
SUMMARY:Tramitación de solicitudes de axudas FEMPA
DESCRIPTION:Tes un proxecto vinculado ao mar e queres optar ás axudas do FEMPA?\nNeste obradoiro práctico veremos como tramitar correctamente as solicitudes\, que documentación é precisa e cales son os pasos clave para non perder a oportunidade de financiamento.\n🗓️ Luns\, 16 de xuño\n⏰ Ás 13:00 h\n💻 Modalidade en liña\nAprende a xestionar as túas axudas con seguridade e claridade. \n\n  Inscrición aquí
URL:https://rede-esmar.gal/event/tramitacion-de-solicitudes-de-axudas-fempa/
ATTACH;FMTTYPE=image/png:https://rede-esmar.gal/wp-content/uploads/2025/05/20-e1748340708416.png
END:VEVENT
BEGIN:VEVENT
DTSTART;TZID=Europe/Paris:20250626T123000
DTEND;TZID=Europe/Paris:20250626T140000
DTSTAMP:20260421T001543
CREATED:20250527T101412Z
LAST-MODIFIED:20250527T111107Z
UID:2744-1750941000-1750946400@rede-esmar.gal
SUMMARY:Comercialización e mercadotecnia para produtos do mar
DESCRIPTION:Queres vender mellor os teus produtos mariños e chegar a máis clientela?\nNeste obradoiro explorarás estratexias clave de comercialización\, técnicas de venda e ferramentas de mercadotecnia adaptadas ás necesidades do sector do mar.\n🗓️ Xoves\, 26 de xuño\n⏰ Ás 12:30 h\n🏢 Modalidade presencial\n📍 Lugar: Centro de Negocios Garabulla Coworking\, Edificio Lara (Praza Galicia)\, Planta 2\, Módulo 5 – Vilagarcía de Arousa\nImpulsa as túas vendas con novas ideas e conexións co mercado. \n\n  Inscrición aquí
URL:https://rede-esmar.gal/event/comercializacion-e-mercadotecnia-para-produtos-do-mar/
ATTACH;FMTTYPE=image/png:https://rede-esmar.gal/wp-content/uploads/2025/05/21-e1748340839831.png
END:VEVENT
BEGIN:VEVENT
DTSTART;TZID=Europe/Paris:20250630T130000
DTEND;TZID=Europe/Paris:20250630T143000
DTSTAMP:20260421T001543
CREATED:20250527T101556Z
LAST-MODIFIED:20250527T111052Z
UID:2748-1751288400-1751293800@rede-esmar.gal
SUMMARY:Mellora da eficiencia operativa da túa empresa
DESCRIPTION:Queres optimizar recursos\, reducir tempos e mellorar resultados?\nNeste obradoiro coñecerás ferramentas e metodoloxías para facer a túa empresa máis eficiente\, con procesos máis claros e produtivos no día a día.\n🗓️ Luns\, 30 de xuño\n⏰ Ás 13:00 h\n💻 Modalidade en liña\nMellora o funcionamento do teu negocio desde dentro. \n\n  Inscrición aquí
URL:https://rede-esmar.gal/event/mellora-da-eficiencia-operativa-da-tua-empresa-2/
ATTACH;FMTTYPE=image/png:https://rede-esmar.gal/wp-content/uploads/2025/05/22-e1748340936253.png
END:VEVENT
BEGIN:VEVENT
DTSTART;TZID=Europe/Paris:20250702T123000
DTEND;TZID=Europe/Paris:20250702T140000
DTSTAMP:20260421T001543
CREATED:20250626T161221Z
LAST-MODIFIED:20250701T072718Z
UID:2881-1751459400-1751464800@rede-esmar.gal
SUMMARY:Mantemento da cadea de frío
DESCRIPTION:🔵 ¿Traballas no sector do mar? Entón este obradoiro é para ti.\n❄️ Aprende a manter a cadea de frío e protexe a calidade dos teus produtos. \n📅 Cando? Mércores\, 2 de xullo\n🕛 Hora: 12:30\n💻 Onde? Online vía Zoom \n👉 Non perdas esta oportunidade e inscríbete! \nInscrición aquí
URL:https://rede-esmar.gal/event/mantemento-da-cadea-de-frio/
ATTACH;FMTTYPE=image/png:https://rede-esmar.gal/wp-content/uploads/2025/06/cad-frio-b--e1751268778529.png
END:VEVENT
BEGIN:VEVENT
DTSTART;TZID=Europe/Paris:20250709T093000
DTEND;TZID=Europe/Paris:20250709T110000
DTSTAMP:20260421T001543
CREATED:20250630T074728Z
LAST-MODIFIED:20250701T072641Z
UID:2898-1752053400-1752058800@rede-esmar.gal
SUMMARY:Innovación en produtos e servizos do mar
DESCRIPTION:🌊 Aposta pola innovación no sector do mar!\nUnha cita imprescindible para profesionais do mar que queren ir un paso máis alá: descubre novas ideas\, produtos e servizos que poden transformar o teu negocio.\n📅 Cando? Mércores\, 9 de xullo\n🕘Hora: 09:30\n💻 Onde? Online vía Zoom \nInscrición aquí
URL:https://rede-esmar.gal/event/innovacion-en-produtos-e-servizos-do-mar/
ATTACH;FMTTYPE=image/png:https://rede-esmar.gal/wp-content/uploads/2025/06/0907-e1751268716192.png
END:VEVENT
BEGIN:VEVENT
DTSTART;TZID=Europe/Paris:20250715T093000
DTEND;TZID=Europe/Paris:20250715T110000
DTSTAMP:20260421T001543
CREATED:20250630T134021Z
LAST-MODIFIED:20250701T072615Z
UID:2902-1752571800-1752577200@rede-esmar.gal
SUMMARY:Transformación dixital no sector pesqueiro
DESCRIPTION:💻 Prepárate para os retos do futuro e impulsa a eficiencia do teu negocio coas novas tecnoloxías.\n📅 Cando? Martes\, 15 de xullo\n🕐 Hora: 13:00\n🏢 Modalidade: presencial\n📍 Lugar: oficina de Ferrol\n📍 Enderezo: c/ María\, Nº117 – Baixo – Ferrol \nUn encontro clave para profesionais do mar que buscan innovar e avanzar. \nInscrición aquí
URL:https://rede-esmar.gal/event/transformacion-dixital-no-sector-pesqueiro/
ATTACH;FMTTYPE=image/png:https://rede-esmar.gal/wp-content/uploads/2025/06/1507-e1751290811353.png
END:VEVENT
BEGIN:VEVENT
DTSTART;TZID=Europe/Paris:20250721T093000
DTEND;TZID=Europe/Paris:20250721T110000
DTSTAMP:20260421T001543
CREATED:20250630T142125Z
LAST-MODIFIED:20250701T101903Z
UID:2906-1753090200-1753095600@rede-esmar.gal
SUMMARY:Deseño de experiencias de turismo mariñeiro e pesqueiro
DESCRIPTION:Aprende a crear propostas únicas que conecten co territorio e impulsen o desenvolvemento local.\n📅 Cando? Luns\, 21 de xullo\n🕘 Hora: 09:30\n🏢 Modalidade: presencial\n📍 Lugar: oficina de Ribeira\n📍 Enderezo: praza Porta do Sol\, nº12- 1º- oficina nº2 \nInscrición aquí
URL:https://rede-esmar.gal/event/deseno-de-experiencias-de-turismo-marineiro-e-pesqueiro/
ATTACH;FMTTYPE=image/png:https://rede-esmar.gal/wp-content/uploads/2025/06/2107-e1751293204113.png
END:VEVENT
BEGIN:VEVENT
DTSTART;TZID=Europe/Paris:20250723T130000
DTEND;TZID=Europe/Paris:20250723T143000
DTSTAMP:20260421T001543
CREATED:20250630T142616Z
LAST-MODIFIED:20250701T072438Z
UID:2909-1753275600-1753281000@rede-esmar.gal
SUMMARY:Xestión administrativa para pemes e autónomos
DESCRIPTION:📋 Mellora os procesos do teu negocio e aprende ferramentas clave para a xestión diaria.\n📅 Cando? Mércores\, 23 de xullo\n🕐 Hora: 13:00\n💻 Onde? Online vía Zoom \nUnha formación pensada para facilitar o traballo diario de profesionais e pequenas empresas. \nInscrición aquí
URL:https://rede-esmar.gal/event/xestion-administrativa-para-pemes-e-autonomos/
ATTACH;FMTTYPE=image/png:https://rede-esmar.gal/wp-content/uploads/2025/06/2307-e1751293491114.png
END:VEVENT
BEGIN:VEVENT
DTSTART;TZID=Europe/Paris:20250729T130000
DTEND;TZID=Europe/Paris:20250729T143000
DTSTAMP:20260421T001543
CREATED:20250630T143000Z
LAST-MODIFIED:20250811T080759Z
UID:2915-1753794000-1753799400@rede-esmar.gal
SUMMARY:Ferramentas de xestión empresarial
DESCRIPTION:🛠️ Descubre solucións prácticas para mellorar a organización e eficiencia do teu negocio\, optimizando a súa xestión.\n📅 Cando? Martes\, 29 de xullo\n🕐 Hora: 13:00\n💻 Onde? Online vía Zoom \nInscrición aquí
URL:https://rede-esmar.gal/event/ferramentas-de-xestion-empresarial/
ATTACH;FMTTYPE=image/png:https://rede-esmar.gal/wp-content/uploads/2025/06/2907-e1751293785591.png
END:VEVENT
BEGIN:VEVENT
DTSTART;TZID=Europe/Paris:20250812T100000
DTEND;TZID=Europe/Paris:20250812T113000
DTSTAMP:20260421T001543
CREATED:20250811T075854Z
LAST-MODIFIED:20250811T080034Z
UID:8828-1754992800-1754998200@rede-esmar.gal
SUMMARY:Cambio climático e océanos: unha relación de futuro
DESCRIPTION:🌊 Explora como o cambio climático afecta aos ecosistemas mariños e descubre accións clave para un futuro sostible. \n📅 Cando? Martes\, 12 de agosto\n🕙 Hora: 10:00\n💻 Onde? Online vía Zoom \nInscrición aquí
URL:https://rede-esmar.gal/event/cambio-climatico-e-oceanos-unha-relacion-de-futuro/
ATTACH;FMTTYPE=image/png:https://rede-esmar.gal/wp-content/uploads/2025/08/1208.png
END:VEVENT
BEGIN:VEVENT
DTSTART;TZID=Europe/Paris:20250818T093000
DTEND;TZID=Europe/Paris:20250818T110000
DTSTAMP:20260421T001543
CREATED:20250811T080530Z
LAST-MODIFIED:20250811T080812Z
UID:8864-1755509400-1755514800@rede-esmar.gal
SUMMARY:Ciberseguridade básica para o sector do mar
DESCRIPTION:🔐 Aprende a protexer os teus datos e sistemas fronte ás ameazas dixitais máis comúns no ámbito marítimo. \n📅 Cando? Luns\, 18 de agosto\n🕤 Hora: 09:30\n💻 Onde? Online vía Zoom \nInscrición aquí
URL:https://rede-esmar.gal/event/ciberseguridade-basica-para-o-sector-do-mar/
ATTACH;FMTTYPE=image/png:https://rede-esmar.gal/wp-content/uploads/2025/08/1808.png
END:VEVENT
BEGIN:VEVENT
DTSTART;TZID=Europe/Paris:20250820T093000
DTEND;TZID=Europe/Paris:20250820T110000
DTSTAMP:20260421T001543
CREATED:20250811T082543Z
LAST-MODIFIED:20250811T082727Z
UID:8868-1755682200-1755687600@rede-esmar.gal
SUMMARY:Inicación ao mundo fiscal para pemes e autónomos do sector do mar
DESCRIPTION:💼 Descubre os conceptos fiscais básicos que necesitas coñecer para xestionar correctamente a túa actividade profesional no sector.  \n📅 Cando? Mércores\, 20 de agosto\n🕤 Hora: 09:30\n💻 A través de Zoom \nInscrición aquí
URL:https://rede-esmar.gal/event/inicacion-ao-mundo-fiscal-para-pemes-e-autonomos-do-sector-do-mar/
ATTACH;FMTTYPE=image/png:https://rede-esmar.gal/wp-content/uploads/2025/08/2008.png
END:VEVENT
BEGIN:VEVENT
DTSTART;TZID=Europe/Paris:20250826T093000
DTEND;TZID=Europe/Paris:20250826T110000
DTSTAMP:20260421T001543
CREATED:20250811T084626Z
LAST-MODIFIED:20250811T084626Z
UID:9158-1756200600-1756206000@rede-esmar.gal
SUMMARY:Enfermidades de transmisión alimentaria asociadas a produtos pesqueiros
DESCRIPTION:🐟 Coñece os riscos asociados ao consumo de produtos do mar e aprende boas prácticas para garantir a seguridade alimentaria no teu negocio. \n📅 Cando? Martes\, 26 de agosto\n🕤 Hora: 09:30\n📍 Onde? Oficina de Vivero (C/ Lavandeiras\, Nº6 – 27863 Vivero\, Lugo) \nInscrición aquí
URL:https://rede-esmar.gal/event/enfermidades-de-transmision-alimentaria-asociadas-a-produtos-pesqueiros/
ATTACH;FMTTYPE=image/png:https://rede-esmar.gal/wp-content/uploads/2025/08/2608.png
END:VEVENT
BEGIN:VEVENT
DTSTART;TZID=Europe/Paris:20250903T093000
DTEND;TZID=Europe/Paris:20250903T110000
DTSTAMP:20260421T001543
CREATED:20250828T105147Z
LAST-MODIFIED:20250828T105935Z
UID:9921-1756891800-1756897200@rede-esmar.gal
SUMMARY:Turismo mariñeiro como oportunidade de diversificación sostible
DESCRIPTION:🌊 Descubre como o turismo mariñeiro pode ser unha vía de crecemento sostible e diversificación económica no marco da economía azul.\n📅 Cando? Mércores\, 3 de setembro\n🕘 Hora: 09:30\n📍 Onde? Oficina de Vigo (Rúa Irmandiños\, Nº8 – Baixo – 36201 Vigo) \nInscrición aquí
URL:https://rede-esmar.gal/event/obradoiro-formativo-turismo-marineiro-como-oportunidade-de-diversificacion-sostible/
ATTACH;FMTTYPE=image/png:https://rede-esmar.gal/wp-content/uploads/2025/08/34.png
END:VEVENT
BEGIN:VEVENT
DTSTART;TZID=Europe/Paris:20250909T093000
DTEND;TZID=Europe/Paris:20250909T110000
DTSTAMP:20260421T001543
CREATED:20250828T105915Z
LAST-MODIFIED:20250908T082520Z
UID:9926-1757410200-1757415600@rede-esmar.gal
SUMMARY:Gastos e sectores obxecto das axudas FEMPA
DESCRIPTION:💡 Coñece os tipos de gastos e sectores que poden beneficiarse das axudas FEMPA.\n📅 Cando? Martes\, 9 de setembro\n🕘 Hora: 09:30\n💻 Modalidade: Online vía Zoom \nInscrición aquí
URL:https://rede-esmar.gal/event/gastos-e-sectores-obxecto-das-axudas-fempa/
ATTACH;FMTTYPE=image/png:https://rede-esmar.gal/wp-content/uploads/2025/08/36-1.png
END:VEVENT
BEGIN:VEVENT
DTSTART;TZID=Europe/Paris:20250911T100000
DTEND;TZID=Europe/Paris:20250911T113000
DTSTAMP:20260421T001543
CREATED:20250828T113715Z
LAST-MODIFIED:20250829T112318Z
UID:9941-1757584800-1757590200@rede-esmar.gal
SUMMARY:Revalorización dos subprodutos pesqueiros
DESCRIPTION:♻️ Descubre como transformar os subprodutos da pesca e da acuicultura en novas oportunidades.\n📅 Cando? Xoves\, 11 de setembro\n🕘 Hora: 09:30\n💻 Modalidade: Online vía Zoom \nInscrición aquí
URL:https://rede-esmar.gal/event/revalorizacion-de-subprodutos-da-pesca-e-da-acuicultura/
ATTACH;FMTTYPE=image/png:https://rede-esmar.gal/wp-content/uploads/2025/08/39-1.png
END:VEVENT
BEGIN:VEVENT
DTSTART;TZID=Europe/Paris:20250916T093000
DTEND;TZID=Europe/Paris:20250916T110000
DTSTAMP:20260421T001543
CREATED:20250828T110742Z
LAST-MODIFIED:20250904T072855Z
UID:9935-1758015000-1758020400@rede-esmar.gal
SUMMARY:Sistema de autocontrol APPCC
DESCRIPTION:🔍 Aprende a implementar o sistema APPCC para garantir a seguridade alimentaria no teu negocio vinculado á economía azul.\n📅 Cando? Martes\, 16 de setembro\n🕘 Hora: 09:30\n💻 Modalidade: Online vía Zoom \nInscrición aquí
URL:https://rede-esmar.gal/event/sistema-de-autocontrol-appcc/
ATTACH;FMTTYPE=image/png:https://rede-esmar.gal/wp-content/uploads/2025/08/40.png
END:VEVENT
END:VCALENDAR