BEGIN:VCALENDAR
VERSION:2.0
PRODID:-//ES·MAR - ECPv6.13.2.1//NONSGML v1.0//EN
CALSCALE:GREGORIAN
METHOD:PUBLISH
X-WR-CALNAME:ES·MAR
X-ORIGINAL-URL:https://rede-esmar.gal
X-WR-CALDESC:Events for ES·MAR
REFRESH-INTERVAL;VALUE=DURATION:PT1H
X-Robots-Tag:noindex
X-PUBLISHED-TTL:PT1H
BEGIN:VTIMEZONE
TZID:Europe/Paris
BEGIN:DAYLIGHT
TZOFFSETFROM:+0100
TZOFFSETTO:+0200
TZNAME:CEST
DTSTART:20260329T010000
END:DAYLIGHT
BEGIN:STANDARD
TZOFFSETFROM:+0200
TZOFFSETTO:+0100
TZNAME:CET
DTSTART:20261025T010000
END:STANDARD
END:VTIMEZONE
BEGIN:VEVENT
DTSTART;TZID=Europe/Paris:20260216T100000
DTEND;TZID=Europe/Paris:20260216T110000
DTSTAMP:20260420T003007
CREATED:20260202T113344Z
LAST-MODIFIED:20260204T123209Z
UID:15040-1771236000-1771239600@rede-esmar.gal
SUMMARY:Organiza e profesionaliza a xestión diaria da túa empresa do mar
DESCRIPTION:📊 Unha sesión práctica para mellorar procesos internos\, optimizar tarefas e incorporar ferramentas que profesionalizan a xestión diaria dunha empresa do mar. \n📅 Cando? Luns\, 16 de febreiro\n⏰ Hora: 10:00\n💻 Modalidade: Online vía Zoom \nInscrición aquí
URL:https://rede-esmar.gal/event/organiza-e-profesionaliza-a-xestion-diaria-da-tua-empresa-do-mar/
ATTACH;FMTTYPE=image/png:https://rede-esmar.gal/wp-content/uploads/2026/01/97.png
END:VEVENT
BEGIN:VEVENT
DTSTART;TZID=Europe/Paris:20260219T103000
DTEND;TZID=Europe/Paris:20260219T113000
DTSTAMP:20260420T003007
CREATED:20260202T113456Z
LAST-MODIFIED:20260204T162135Z
UID:15044-1771497000-1771500600@rede-esmar.gal
SUMMARY:Competitividade no sector do mar
DESCRIPTION:📈 Aprende a identificar vantaxes competitivas\, mellorar procesos e reforzar a posición da túa empresa nun mercado en constante evolución. \n📅 Cando? Xoves\, 19 de febreiro\n⏰ Hora: 10:30\n📍 Lugar: Oficina de Vilagarcía de Arousa – Centro de Negocios Garabulla Coworking\, Edificio Lara (Praza Galicia)\, Planta 2\, Módulo 5
URL:https://rede-esmar.gal/event/competitividade-no-sector-do-ma/
LOCATION:Oficina de Vilagarcía de Arousa\, Centro de Negocios Garabulla Coworking\, Edificio Lara (Praza Galicia)\, Planta 2\, Módulo 5
ATTACH;FMTTYPE=image/png:https://rede-esmar.gal/wp-content/uploads/2026/01/98.png
END:VEVENT
BEGIN:VEVENT
DTSTART;TZID=Europe/Paris:20260224T100000
DTEND;TZID=Europe/Paris:20260224T110000
DTSTAMP:20260420T003007
CREATED:20260202T113540Z
LAST-MODIFIED:20260204T122546Z
UID:15047-1771927200-1771930800@rede-esmar.gal
SUMMARY:Impulsa a túa presenza en liña co deseño web e o SEO
DESCRIPTION:🌐 Descubre as claves dun bo deseño web e das técnicas básicas de SEO para mellorar a visibilidade do teu negocio e atraer novos clientes a través de internet.\n📅 Cando? Martes\, 24 de febreiro\n⏰ Hora: 10:00\n📍 Lugar: Oficina de Ribeira – Praza Porta do Sol\, Nº12 – 1º – Oficina Nº2 – 15960 Ribeira (A Coruña) \nInscrición aquí
URL:https://rede-esmar.gal/event/impulsa-a-tua-presenza-en-lina-co-deseno-web-e-o-seo/
LOCATION:Oficina de Ribeira\, Praza Porta do Sol\, Nº12 – 1º – Oficina Nº2 – 15960 Ribeira (A Coruña)\, A Coruña\, Spain
ATTACH;FMTTYPE=image/png:https://rede-esmar.gal/wp-content/uploads/2026/01/100-1.png
END:VEVENT
BEGIN:VEVENT
DTSTART;TZID=Europe/Paris:20260226T103000
DTEND;TZID=Europe/Paris:20260226T113000
DTSTAMP:20260420T003007
CREATED:20260202T113536Z
LAST-MODIFIED:20260204T162720Z
UID:15050-1772101800-1772105400@rede-esmar.gal
SUMMARY:Canva. Que pode facer esta ferramenta polo meu negocio?
DESCRIPTION:🎨 Aprende a crear deseños profesionais e atractivos con Canva para mellorar a comunicación visual e reforzar a identidade do teu negocio. \n📅 Cando? Xoves\, 26 de febreiro\n⏰ Hora: 10:30\n💻 Modalidade: Online vía Zoom \nInscrición aquí
URL:https://rede-esmar.gal/event/canva-que-pode-facer-esta-ferramenta-polo-meu-negocio/
ATTACH;FMTTYPE=image/png:https://rede-esmar.gal/wp-content/uploads/2026/02/OBRADOIRO-FORMATIVO-INNOVACION-NO-SECTOR-DO-MAR.png
END:VEVENT
BEGIN:VEVENT
DTSTART;TZID=Europe/Paris:20260303T103000
DTEND;TZID=Europe/Paris:20260303T113000
DTSTAMP:20260420T003007
CREATED:20260226T090714Z
LAST-MODIFIED:20260226T091910Z
UID:15337-1772533800-1772537400@rede-esmar.gal
SUMMARY:Emprendemento en acuicultura en Galicia.
DESCRIPTION:🌊 Descubre as claves para emprender no sector da acuicultura e coñece oportunidades reais de negocio en Galicia.\n📅 Cando? Martes\, 3 de marzo\n🕥 Hora: 10:30\n💻 Modalidade: Online \nInscrición aquí
URL:https://rede-esmar.gal/event/emprendemento-en-acuicultura-en-galicia-2/
ATTACH;FMTTYPE=image/png:https://rede-esmar.gal/wp-content/uploads/2026/02/03-03.png
END:VEVENT
BEGIN:VEVENT
DTSTART;TZID=Europe/Paris:20260312T100000
DTEND;TZID=Europe/Paris:20260312T110000
DTSTAMP:20260420T003007
CREATED:20260226T091105Z
LAST-MODIFIED:20260226T094539Z
UID:15340-1773309600-1773313200@rede-esmar.gal
SUMMARY:Crea\, deseña e envía emails co Mailchimp
DESCRIPTION:📧 Aprende a crear campañas de email marketing eficaces para comunicarte mellor coa túa clientela.\n📅 Cando? Xoves\, 12 de marzo\n🕙 Hora: 10:00\n💻 Modalidade: Online \nInscrición aquí
URL:https://rede-esmar.gal/event/crea-desena-e-envia-emails-co-mailchimp/
ATTACH;FMTTYPE=image/png:https://rede-esmar.gal/wp-content/uploads/2026/02/12-03.png
END:VEVENT
BEGIN:VEVENT
DTSTART;TZID=Europe/Paris:20260317T103000
DTEND;TZID=Europe/Paris:20260317T113000
DTSTAMP:20260420T003007
CREATED:20260226T092613Z
LAST-MODIFIED:20260226T092613Z
UID:15351-1773743400-1773747000@rede-esmar.gal
SUMMARY:Creación de páxinas web para o sector do mar
DESCRIPTION:💻 Aprende a crear unha páxina web adaptada ás necesidades reais das empresas do sector do mar.\n📅 Cando? Martes\, 17 de marzo\n🕥 Hora: 10:30\n📍 Modalidade: Presencial\n📌 Lugar: Ferrol \nInscrición aquí
URL:https://rede-esmar.gal/event/creacion-de-paxinas-web-para-o-sector-do-mar/
LOCATION:oficina de ferrol
ATTACH;FMTTYPE=image/png:https://rede-esmar.gal/wp-content/uploads/2026/02/17-03.png
END:VEVENT
BEGIN:VEVENT
DTSTART;TZID=Europe/Paris:20260326T100000
DTEND;TZID=Europe/Paris:20260326T110000
DTSTAMP:20260420T003007
CREATED:20260226T093826Z
LAST-MODIFIED:20260303T091558Z
UID:15369-1774519200-1774522800@rede-esmar.gal
SUMMARY:O salto a xestión profesional na empresa familiar do sector mar-industria
DESCRIPTION:🏢 Reflexiona sobre os retos e oportunidades da profesionalización na empresa familiar do sector mar-industria.\n📅 Cando: Xoves\, 26 de marzo\n⏰ Hora: 10:00 h\n💻 Modalidade: Online \nInscrición aquí
URL:https://rede-esmar.gal/event/o-salto-a-xestion-profesional-na-empresa-familiar-do-sector-mar-industria/
ATTACH;FMTTYPE=image/png:https://rede-esmar.gal/wp-content/uploads/2026/02/OBRADOIRO-FORMATIVO-INNOVACION-NO-SECTOR-DO-MAR-1.png
END:VEVENT
BEGIN:VEVENT
DTSTART;TZID=Europe/Paris:20260331T103000
DTEND;TZID=Europe/Paris:20260331T113000
DTSTAMP:20260420T003007
CREATED:20260226T093535Z
LAST-MODIFIED:20260318T141824Z
UID:15366-1774953000-1774956600@rede-esmar.gal
SUMMARY:Turismo mariñeiro e pescaturismo como oportunidade de diversificación sostible
DESCRIPTION:⚓ Coñece novas vías de diversificación económica ligadas ao turismo mariñeiro e ao pescaturismo.\n📅 Cando? Martes\, 31 de marzo\n🕙 Hora: 10:30\n💻 Modalidade: Online \nInscrición aquí
URL:https://rede-esmar.gal/event/turismo-marineiro-e-pescaturismo-como-oportunidade-de-diversificacion-sostible/
ATTACH;FMTTYPE=image/png:https://rede-esmar.gal/wp-content/uploads/2026/02/OBRADOIRO-FORMATIVO-INNOVACION-NO-SECTOR-DO-MAR-2.png
END:VEVENT
BEGIN:VEVENT
DTSTART;TZID=Europe/Paris:20260407T103000
DTEND;TZID=Europe/Paris:20260407T113000
DTSTAMP:20260420T003007
CREATED:20260330T101042Z
LAST-MODIFIED:20260330T101042Z
UID:15571-1775557800-1775561400@rede-esmar.gal
SUMMARY:Estratexia e toma de decisións nas empresas do sector do mar
DESCRIPTION:🏢 Aprende a mellorar a visibilidade dixital do teu negocio e atraer clientes a través de Google.\n📅 Cando? Martes\, 7 de abril\n🕥 Hora: 10:30\n📍 Modalidade: Online
URL:https://rede-esmar.gal/event/estratexia-e-toma-de-decisions-nas-empresas-do-sector-do-mar/
ATTACH;FMTTYPE=image/png:https://rede-esmar.gal/wp-content/uploads/2026/03/07-04.png
END:VEVENT
BEGIN:VEVENT
DTSTART;TZID=Europe/Paris:20260409T100000
DTEND;TZID=Europe/Paris:20260409T110000
DTSTAMP:20260420T003007
CREATED:20260330T103835Z
LAST-MODIFIED:20260330T103930Z
UID:15574-1775728800-1775732400@rede-esmar.gal
SUMMARY:Aumenta a presenza en liña do teu negocio co perfil de empresa de Google
DESCRIPTION:🏢 Aprende a xestionar correctamente o teu perfil de empresa en Google para mellorar a visibilidade local e atraer novos clientes.\n📅 Cando? Xoves 9 de abril\n🕥 Hora: 10:00\n📍 Modalidade: Online \nInscrición aquí
URL:https://rede-esmar.gal/event/aumenta-a-presenza-en-lina-do-teu-negocio-co-perfil-de-empresa-de-google/
ATTACH;FMTTYPE=image/png:https://rede-esmar.gal/wp-content/uploads/2026/03/09-04.png
END:VEVENT
BEGIN:VEVENT
DTSTART;TZID=Europe/Paris:20260414T103000
DTEND;TZID=Europe/Paris:20260414T113000
DTSTAMP:20260420T003007
CREATED:20260330T105656Z
LAST-MODIFIED:20260330T105656Z
UID:15577-1776162600-1776166200@rede-esmar.gal
SUMMARY:Introducción á análise de datos das capturas pesqueiras coa intelixencia artificial
DESCRIPTION:🏢 Achegamento práctico ao uso da intelixencia artificial para analizar datos de capturas e apoiar a toma de decisións no sector pesqueiro.\n📅 Cando? Martes 14 de abril\n🕥 Hora: 10:30\n📍 Modalidade: Online \nInscrición aquí
URL:https://rede-esmar.gal/event/introduccion-a-analise-de-datos-das-capturas-pesqueiras-coa-intelixencia-artificial/
ATTACH;FMTTYPE=image/png:https://rede-esmar.gal/wp-content/uploads/2026/03/14-04.png
END:VEVENT
BEGIN:VEVENT
DTSTART;TZID=Europe/Paris:20260421T100000
DTEND;TZID=Europe/Paris:20260421T110000
DTSTAMP:20260420T003007
CREATED:20260330T105959Z
LAST-MODIFIED:20260330T105959Z
UID:15580-1776765600-1776769200@rede-esmar.gal
SUMMARY:Estrutura interna e xestión de riscos nas empresas do sector do mar
DESCRIPTION:🏢 Analiza como unha estrutura interna clara axuda a identificar riscos\, mellorar a coordinación interna e reforzar a estabilidade das empresas do sector do mar.\n📅 Cando? Martes 21 de abril\n🕥 Hora: 10:00\n📍 Modalidade: Online \nInscrición aquí
URL:https://rede-esmar.gal/event/estrutura-interna-e-xestion-de-riscos-nas-empresas-do-sector-do-mar/
ATTACH;FMTTYPE=image/png:https://rede-esmar.gal/wp-content/uploads/2026/03/21-04.png
END:VEVENT
BEGIN:VEVENT
DTSTART;TZID=Europe/Paris:20260423T103000
DTEND;TZID=Europe/Paris:20260423T113000
DTSTAMP:20260420T003007
CREATED:20260330T110226Z
LAST-MODIFIED:20260330T110226Z
UID:15583-1776940200-1776943800@rede-esmar.gal
SUMMARY:Marco normativo actual na seguridade alimentaria: implicacións para maioristas e plantas de procesado
DESCRIPTION:🏢 Coñece as principais obrigas e cambios normativos en materia de seguridade alimentaria e como afectan á actividade de maioristas e plantas de procesado.\n📅 Cando? Xoves 23 de abril\n🕥 Hora: 10:30\n📍 Modalidade: Online \nInscrición aquí
URL:https://rede-esmar.gal/event/marco-normativo-actual-na-seguridade-alimentaria-implicacions-para-maioristas-e-plantas-de-procesado/
ATTACH;FMTTYPE=image/png:https://rede-esmar.gal/wp-content/uploads/2026/03/23-04.png
END:VEVENT
BEGIN:VEVENT
DTSTART;TZID=Europe/Paris:20260427T103000
DTEND;TZID=Europe/Paris:20260427T113000
DTSTAMP:20260420T003007
CREATED:20260330T110503Z
LAST-MODIFIED:20260330T110503Z
UID:15586-1777285800-1777289400@rede-esmar.gal
SUMMARY:Como vender os teus produtos en liña sen publicidade: SEO para tendas en liña
DESCRIPTION:🏢 Aprende a mellorar a visibilidade da túa tenda en liña nos buscadores e atraer clientes de forma orgánica\, sen depender da publicidade de pago.\n📅 Cando? Luns 27 de abril\n🕥 Hora: 10:30\n📍 Modalidade: Online \nInscrición aquí
URL:https://rede-esmar.gal/event/como-vender-os-teus-produtos-en-lina-sen-publicidade-seo-para-tendas-en-lina/
ATTACH;FMTTYPE=image/png:https://rede-esmar.gal/wp-content/uploads/2026/03/27-04.png
END:VEVENT
BEGIN:VEVENT
DTSTART;TZID=Europe/Paris:20260430T103000
DTEND;TZID=Europe/Paris:20260430T113000
DTSTAMP:20260420T003007
CREATED:20260330T110718Z
LAST-MODIFIED:20260330T110718Z
UID:15589-1777545000-1777548600@rede-esmar.gal
SUMMARY:Como usar Google Maps para atraer os clientes?
DESCRIPTION:🏢 Mellora a visibilidade local do teu negocio e atrae novos clientes.\n📅 Cando? Xoves 30 de abril\n🕥 Hora: 10:30\n📍 Modalidade: Presencial \nInscrición aquí
URL:https://rede-esmar.gal/event/como-usar-google-maps-para-atraer-os-clientes/
ATTACH;FMTTYPE=image/png:https://rede-esmar.gal/wp-content/uploads/2026/03/30-04.png
END:VEVENT
END:VCALENDAR