BEGIN:VCALENDAR
VERSION:2.0
PRODID:-//ES·MAR - ECPv6.13.2.1//NONSGML v1.0//EN
CALSCALE:GREGORIAN
METHOD:PUBLISH
X-ORIGINAL-URL:https://rede-esmar.gal
X-WR-CALDESC:Events for ES·MAR
REFRESH-INTERVAL;VALUE=DURATION:PT1H
X-Robots-Tag:noindex
X-PUBLISHED-TTL:PT1H
BEGIN:VTIMEZONE
TZID:Europe/Paris
BEGIN:DAYLIGHT
TZOFFSETFROM:+0100
TZOFFSETTO:+0200
TZNAME:CEST
DTSTART:20250330T010000
END:DAYLIGHT
BEGIN:STANDARD
TZOFFSETFROM:+0200
TZOFFSETTO:+0100
TZNAME:CET
DTSTART:20251026T010000
END:STANDARD
END:VTIMEZONE
BEGIN:VEVENT
DTSTART;TZID=Europe/Paris:20250909T093000
DTEND;TZID=Europe/Paris:20250909T110000
DTSTAMP:20260420T051851
CREATED:20250828T105915Z
LAST-MODIFIED:20250908T082520Z
UID:9926-1757410200-1757415600@rede-esmar.gal
SUMMARY:Gastos e sectores obxecto das axudas FEMPA
DESCRIPTION:💡 Coñece os tipos de gastos e sectores que poden beneficiarse das axudas FEMPA.\n📅 Cando? Martes\, 9 de setembro\n🕘 Hora: 09:30\n💻 Modalidade: Online vía Zoom \nInscrición aquí
URL:https://rede-esmar.gal/event/gastos-e-sectores-obxecto-das-axudas-fempa/
ATTACH;FMTTYPE=image/png:https://rede-esmar.gal/wp-content/uploads/2025/08/36-1.png
END:VEVENT
END:VCALENDAR