BEGIN:VCALENDAR
VERSION:2.0
PRODID:-//ES·MAR - ECPv6.13.2.1//NONSGML v1.0//EN
CALSCALE:GREGORIAN
METHOD:PUBLISH
X-WR-CALNAME:ES·MAR
X-ORIGINAL-URL:https://rede-esmar.gal
X-WR-CALDESC:Events for ES·MAR
REFRESH-INTERVAL;VALUE=DURATION:PT1H
X-Robots-Tag:noindex
X-PUBLISHED-TTL:PT1H
BEGIN:VTIMEZONE
TZID:Europe/Paris
BEGIN:DAYLIGHT
TZOFFSETFROM:+0100
TZOFFSETTO:+0200
TZNAME:CEST
DTSTART:20250330T010000
END:DAYLIGHT
BEGIN:STANDARD
TZOFFSETFROM:+0200
TZOFFSETTO:+0100
TZNAME:CET
DTSTART:20251026T010000
END:STANDARD
END:VTIMEZONE
BEGIN:VEVENT
DTSTART;TZID=Europe/Paris:20250923T093000
DTEND;TZID=Europe/Paris:20250923T110000
DTSTAMP:20260420T051704
CREATED:20250828T110246Z
LAST-MODIFIED:20250828T110246Z
UID:9929-1758619800-1758625200@rede-esmar.gal
SUMMARY:Claves para comprender o sistema tributario para autónomos e pemes
DESCRIPTION:📊 Aprende a navegar o sistema tributario e optimiza a xestión fiscal do teu negocio como autónomo ou pequena empresa.\n📅 Cando? Martes\, 23 de setembro\n🕘 Hora: 09:30\n💻 Modalidade: Online vía Zoom \nInscrición aquí
URL:https://rede-esmar.gal/event/claves-para-comprender-o-sistema-tributario-para-autonomos-e-pemes/
ATTACH;FMTTYPE=image/png:https://rede-esmar.gal/wp-content/uploads/2025/08/37.png
END:VEVENT
END:VCALENDAR