BEGIN:VCALENDAR
VERSION:2.0
PRODID:-//ES·MAR - ECPv6.13.2.1//NONSGML v1.0//EN
CALSCALE:GREGORIAN
METHOD:PUBLISH
X-ORIGINAL-URL:https://rede-esmar.gal
X-WR-CALDESC:Events for ES·MAR
REFRESH-INTERVAL;VALUE=DURATION:PT1H
X-Robots-Tag:noindex
X-PUBLISHED-TTL:PT1H
BEGIN:VTIMEZONE
TZID:Europe/Paris
BEGIN:DAYLIGHT
TZOFFSETFROM:+0100
TZOFFSETTO:+0200
TZNAME:CEST
DTSTART:20250330T010000
END:DAYLIGHT
BEGIN:STANDARD
TZOFFSETFROM:+0200
TZOFFSETTO:+0100
TZNAME:CET
DTSTART:20251026T010000
END:STANDARD
END:VTIMEZONE
BEGIN:VEVENT
DTSTART;TZID=Europe/Paris:20251002T093000
DTEND;TZID=Europe/Paris:20251002T110000
DTSTAMP:20260420T034022
CREATED:20250926T113625Z
LAST-MODIFIED:20250926T113625Z
UID:14474-1759397400-1759402800@rede-esmar.gal
SUMMARY:Uso de intelixencia artificial na predición de capturas e rutas de pesca
DESCRIPTION:🤖 Descubre como a intelixencia artificial pode transformar a planificación pesqueira\, mellorando a eficiencia e a sustentabilidade das capturas.\n📅 Cando? Xoves\, 2 de outubro\n🕘 Hora: 09:30\n💻 Modalidade: Online vía Zoom \nInscrición aquí
URL:https://rede-esmar.gal/event/uso-de-intelixencia-artificial-na-predicion-de-capturas-e-rutas-de-pesca/
ATTACH;FMTTYPE=image/png:https://rede-esmar.gal/wp-content/uploads/2025/09/44.png
END:VEVENT
END:VCALENDAR