BEGIN:VCALENDAR
VERSION:2.0
PRODID:-//ES·MAR - ECPv6.13.2.1//NONSGML v1.0//EN
CALSCALE:GREGORIAN
METHOD:PUBLISH
X-ORIGINAL-URL:https://rede-esmar.gal
X-WR-CALDESC:Events for ES·MAR
REFRESH-INTERVAL;VALUE=DURATION:PT1H
X-Robots-Tag:noindex
X-PUBLISHED-TTL:PT1H
BEGIN:VTIMEZONE
TZID:Europe/Paris
BEGIN:DAYLIGHT
TZOFFSETFROM:+0100
TZOFFSETTO:+0200
TZNAME:CEST
DTSTART:20250330T010000
END:DAYLIGHT
BEGIN:STANDARD
TZOFFSETFROM:+0200
TZOFFSETTO:+0100
TZNAME:CET
DTSTART:20251026T010000
END:STANDARD
END:VTIMEZONE
BEGIN:VEVENT
DTSTART;TZID=Europe/Paris:20251014T103000
DTEND;TZID=Europe/Paris:20251014T120000
DTSTAMP:20260420T034020
CREATED:20250926T114540Z
LAST-MODIFIED:20250926T114540Z
UID:14481-1760437800-1760443200@rede-esmar.gal
SUMMARY:Prestación por cese de actividade no mar
DESCRIPTION:⚖️ Infórmate sobre os dereitos e procedementos relacionados coa prestación por cese de actividade no sector marítimo-pesqueiro.\n📅 Cando? Martes\, 14 de outubro\n🕥 Hora: 10:30\n💻 Modalidade: Online vía Zoom \nInscrición aquí
URL:https://rede-esmar.gal/event/prestacion-por-cese-de-actividade-no-mar/
ATTACH;FMTTYPE=image/png:https://rede-esmar.gal/wp-content/uploads/2025/09/OBRADOIRO-FORMATIVO-INNOVACION-NO-SECTOR-DO-MAR.png
END:VEVENT
END:VCALENDAR