BEGIN:VCALENDAR
VERSION:2.0
PRODID:-//ES·MAR - ECPv6.13.2.1//NONSGML v1.0//EN
CALSCALE:GREGORIAN
METHOD:PUBLISH
X-WR-CALNAME:ES·MAR
X-ORIGINAL-URL:https://rede-esmar.gal
X-WR-CALDESC:Events for ES·MAR
REFRESH-INTERVAL;VALUE=DURATION:PT1H
X-Robots-Tag:noindex
X-PUBLISHED-TTL:PT1H
BEGIN:VTIMEZONE
TZID:Europe/Paris
BEGIN:DAYLIGHT
TZOFFSETFROM:+0100
TZOFFSETTO:+0200
TZNAME:CEST
DTSTART:20250330T010000
END:DAYLIGHT
BEGIN:STANDARD
TZOFFSETFROM:+0200
TZOFFSETTO:+0100
TZNAME:CET
DTSTART:20251026T010000
END:STANDARD
END:VTIMEZONE
BEGIN:VEVENT
DTSTART;TZID=Europe/Paris:20251106T100000
DTEND;TZID=Europe/Paris:20251106T113000
DTSTAMP:20260420T020247
CREATED:20251027T165337Z
LAST-MODIFIED:20251027T165337Z
UID:14704-1762423200-1762428600@rede-esmar.gal
SUMMARY:Transformación dixital no sector pesqueiro
DESCRIPTION:💻 Descubre como a dixitalización pode mellorar a eficiencia\, trazabilidade e sustentabilidade no sector pesqueiro. \n📅 Cando? Xoves\, 6 de novembro\n🕙 Hora: 10:00\n💻 Modalidade: Online vía Zoom \nInscrición aquí
URL:https://rede-esmar.gal/event/transformacion-dixital-no-sector-pesqueiro-2/
ATTACH;FMTTYPE=image/png:https://rede-esmar.gal/wp-content/uploads/2025/10/0611.png
END:VEVENT
END:VCALENDAR