BEGIN:VCALENDAR
VERSION:2.0
PRODID:-//ES·MAR - ECPv6.13.2.1//NONSGML v1.0//EN
CALSCALE:GREGORIAN
METHOD:PUBLISH
X-ORIGINAL-URL:https://rede-esmar.gal
X-WR-CALDESC:Events for ES·MAR
REFRESH-INTERVAL;VALUE=DURATION:PT1H
X-Robots-Tag:noindex
X-PUBLISHED-TTL:PT1H
BEGIN:VTIMEZONE
TZID:Europe/Paris
BEGIN:DAYLIGHT
TZOFFSETFROM:+0100
TZOFFSETTO:+0200
TZNAME:CEST
DTSTART:20250330T010000
END:DAYLIGHT
BEGIN:STANDARD
TZOFFSETFROM:+0200
TZOFFSETTO:+0100
TZNAME:CET
DTSTART:20251026T010000
END:STANDARD
END:VTIMEZONE
BEGIN:VEVENT
DTSTART;TZID=Europe/Paris:20251111T100000
DTEND;TZID=Europe/Paris:20251111T113000
DTSTAMP:20260420T020427
CREATED:20251027T171648Z
LAST-MODIFIED:20251107T094044Z
UID:14713-1762855200-1762860600@rede-esmar.gal
SUMMARY:Finanzas e fiscalidade en confrarías\, asociacións do mar e OPP
DESCRIPTION:📊 Aprende a xestionar mellor os recursos económicos e fiscais das organizacións do mar para garantir a súa sustentabilidade e eficiencia. \n📅 Cando? Martes\, 11 de novembro\n🕥 Hora: 10:00\n📍 Lugar: Oficina da Coruña – Rúa Costa da Palloza\, Nº1 – 2º Dereita – Local 3 – 15006 \nInscrición aquí
URL:https://rede-esmar.gal/event/finanzas-e-fiscalidade-en-confrarias-asociacions-do-mar-e-opp/
ATTACH;FMTTYPE=image/png:https://rede-esmar.gal/wp-content/uploads/2025/10/OBRADOIRO-FORMATIVO-INNOVACION-NO-SECTOR-DO-MAR-1-1.png
END:VEVENT
END:VCALENDAR