BEGIN:VCALENDAR
VERSION:2.0
PRODID:-//ES·MAR - ECPv6.13.2.1//NONSGML v1.0//EN
CALSCALE:GREGORIAN
METHOD:PUBLISH
X-WR-CALNAME:ES·MAR
X-ORIGINAL-URL:https://rede-esmar.gal
X-WR-CALDESC:Events for ES·MAR
REFRESH-INTERVAL;VALUE=DURATION:PT1H
X-Robots-Tag:noindex
X-PUBLISHED-TTL:PT1H
BEGIN:VTIMEZONE
TZID:Europe/Paris
BEGIN:DAYLIGHT
TZOFFSETFROM:+0100
TZOFFSETTO:+0200
TZNAME:CEST
DTSTART:20250330T010000
END:DAYLIGHT
BEGIN:STANDARD
TZOFFSETFROM:+0200
TZOFFSETTO:+0100
TZNAME:CET
DTSTART:20251026T010000
END:STANDARD
END:VTIMEZONE
BEGIN:VEVENT
DTSTART;TZID=Europe/Paris:20251218T103000
DTEND;TZID=Europe/Paris:20251218T120000
DTSTAMP:20260420T002531
CREATED:20251125T094114Z
LAST-MODIFIED:20251125T094114Z
UID:14801-1766053800-1766059200@rede-esmar.gal
SUMMARY:Axudas FEMPA á rexeneración dos bancos marisqueiros con perdas de produtividade (PE209H)
DESCRIPTION:🐚 Mantente informado sobre as axudas para recuperar a produtividade dos bancos marisqueiros e garantir a sostibilidade do sector. \n📅 Cando? Xoves\, 18 de decembro\n🕥 Hora: 10:30\n📍 Lugar: Oficina de Vilagarcía de Arousa – Centro de Negocios Garabullla Coworking\, Edificio Lara (Praza Galicia)\, Planta 2\, Módulo 5 \nInscrición aquí
URL:https://rede-esmar.gal/event/axudas-fempa-a-rexeneracion-dos-bancos-marisqueiros-con-perdas-de-produtividade-pe209h/
ATTACH;FMTTYPE=image/png:https://rede-esmar.gal/wp-content/uploads/2025/11/1812.png
END:VEVENT
END:VCALENDAR