BEGIN:VCALENDAR
VERSION:2.0
PRODID:-//ES·MAR - ECPv6.13.2.1//NONSGML v1.0//EN
CALSCALE:GREGORIAN
METHOD:PUBLISH
X-ORIGINAL-URL:https://rede-esmar.gal
X-WR-CALDESC:Events for ES·MAR
REFRESH-INTERVAL;VALUE=DURATION:PT1H
X-Robots-Tag:noindex
X-PUBLISHED-TTL:PT1H
BEGIN:VTIMEZONE
TZID:Europe/Paris
BEGIN:DAYLIGHT
TZOFFSETFROM:+0100
TZOFFSETTO:+0200
TZNAME:CEST
DTSTART:20260329T010000
END:DAYLIGHT
BEGIN:STANDARD
TZOFFSETFROM:+0200
TZOFFSETTO:+0100
TZNAME:CET
DTSTART:20261025T010000
END:STANDARD
END:VTIMEZONE
BEGIN:VEVENT
DTSTART;TZID=Europe/Paris:20260427T103000
DTEND;TZID=Europe/Paris:20260427T113000
DTSTAMP:20260421T103448
CREATED:20260330T110503Z
LAST-MODIFIED:20260330T110503Z
UID:15586-1777285800-1777289400@rede-esmar.gal
SUMMARY:Como vender os teus produtos en liña sen publicidade: SEO para tendas en liña
DESCRIPTION:🏢 Aprende a mellorar a visibilidade da túa tenda en liña nos buscadores e atraer clientes de forma orgánica\, sen depender da publicidade de pago.\n📅 Cando? Luns 27 de abril\n🕥 Hora: 10:30\n📍 Modalidade: Online \nInscrición aquí
URL:https://rede-esmar.gal/event/como-vender-os-teus-produtos-en-lina-sen-publicidade-seo-para-tendas-en-lina/
ATTACH;FMTTYPE=image/png:https://rede-esmar.gal/wp-content/uploads/2026/03/27-04.png
END:VEVENT
END:VCALENDAR