BEGIN:VCALENDAR
VERSION:2.0
PRODID:-//ES·MAR - ECPv6.13.2.1//NONSGML v1.0//EN
CALSCALE:GREGORIAN
METHOD:PUBLISH
X-WR-CALNAME:ES·MAR
X-ORIGINAL-URL:https://rede-esmar.gal
X-WR-CALDESC:Events for ES·MAR
REFRESH-INTERVAL;VALUE=DURATION:PT1H
X-Robots-Tag:noindex
X-PUBLISHED-TTL:PT1H
BEGIN:VTIMEZONE
TZID:Europe/Paris
BEGIN:DAYLIGHT
TZOFFSETFROM:+0100
TZOFFSETTO:+0200
TZNAME:CEST
DTSTART:20250330T010000
END:DAYLIGHT
BEGIN:STANDARD
TZOFFSETFROM:+0200
TZOFFSETTO:+0100
TZNAME:CET
DTSTART:20251026T010000
END:STANDARD
END:VTIMEZONE
BEGIN:VEVENT
DTSTART;TZID=Europe/Paris:20250204T000000
DTEND;TZID=Europe/Paris:20250204T235959
DTSTAMP:20260420T150339
CREATED:20250131T151723Z
LAST-MODIFIED:20250204T142156Z
UID:1007-1738627200-1738713599@rede-esmar.gal
SUMMARY:📢 OBRADOIRO FORMATIVO: AXUDAS PARA PROPIETARIOS DE BUQUES PESQUEIROS 🐟⚓
DESCRIPTION:📢 OBRADOIRO FORMATIVO: AXUDAS PARA PROPIETARIOS DE BUQUES PESQUEIROS 🐟⚓ \nSe es propietario dun buque pesqueiro e queres coñecer as axudas dispoñibles para modernización\, eficiencia enerxética e sustentabilidade\, este obradoiro é para ti! 🚢💡 \n🔍 Descubre como optimizar os teus recursos e mellorar a competitividade do teu negocio. \n📅 Data: 04/02 \n⏰ Hora: 12:00 h \n📌 Inscrición: https://shre.ink/b5bG \n💻 Modalidade: Online a través de Zoom \nNon deixes pasar esta oportunidade para levar a túa embarcación ao seguinte nivel! 🌊
URL:https://rede-esmar.gal/event/obradoiro-formativo-axudas-para-propietarios-de-buques-pesqueiros/
END:VEVENT
BEGIN:VEVENT
DTSTART;TZID=Europe/Paris:20250205T000000
DTEND;TZID=Europe/Paris:20250205T235959
DTSTAMP:20260420T150339
CREATED:20250131T160105Z
LAST-MODIFIED:20250204T144802Z
UID:1015-1738713600-1738799999@rede-esmar.gal
SUMMARY:📢 OBRADOIRO FORMATIVO: AXUDAS PARA PEMEs DE TRANSFORMACIÓN DE PRODUTOS PESQUEIROS E ACUICULTURA 🏭🐠
DESCRIPTION:Es unha PEME dedicada á transformación de produtos pesqueiros ou traballas no sector da acuicultura? Este obradoiro axudarache a coñecer as axudas dispoñibles para innovar e mellorar a túa empresa. 🚀🔬 \n💡 Aprende como acceder ás subvencións para modernización\, sustentabilidade e valor engadido nos produtos do \nmar. \n📅 Data: 05/02 \n⏰ Hora: 16:00 h \n📌 Inscrición: https://shre.ink/b5bj \n💻 Modalidade: Online vía Zoom \n🔗 Dalle un impulso á túa empresa e mellora a súa competitividade! 🌍
URL:https://rede-esmar.gal/event/%f0%9f%93%a2-obradoiro-formativo-axudas-para-pemes-de-transformacion-de-produtos-pesqueiros-e-acuicultura-%f0%9f%8f%ad%f0%9f%90%a0/
END:VEVENT
BEGIN:VEVENT
DTSTART;TZID=Europe/Paris:20250206T000000
DTEND;TZID=Europe/Paris:20250206T235959
DTSTAMP:20260420T150339
CREATED:20250131T160258Z
LAST-MODIFIED:20250204T144748Z
UID:1018-1738800000-1738886399@rede-esmar.gal
SUMMARY:📢 OBRADOIRO FORMATIVO: AXUDAS PARA O SECTOR DA ACUICULTURA 🌊🐟
DESCRIPTION:Se traballas no sector da acuicultura e buscas apoio para modernización\, sustentabilidade ou crecemento\, este obradoiro interésache! 📈💧 \n🔍 Descubre as oportunidades de financiamento para mellorar as instalacións\, optimizar os procesos produtivos e avanzar cara a unha acuicultura máis eficiente e responsable. \n📅 Data: 06/02 \n⏰ Hora: 12:00 h \n📌 Inscrición: https://shre.ink/b5b7 \n💻 Modalidade: Online a través de Zoom \n🌟 Aproveita esta oportunidade para facer medrar o teu proxecto acuícola!
URL:https://rede-esmar.gal/event/%f0%9f%93%a2-obradoiro-formativo-axudas-para-o-sector-da-acuicultura-%f0%9f%8c%8a%f0%9f%90%9f/
END:VEVENT
BEGIN:VEVENT
DTSTART;TZID=Europe/Paris:20250211T000000
DTEND;TZID=Europe/Paris:20250211T235959
DTSTAMP:20260420T150339
CREATED:20250131T160358Z
LAST-MODIFIED:20250204T144731Z
UID:1020-1739232000-1739318399@rede-esmar.gal
SUMMARY:📢 OBRADOIRO FORMATIVO: AXUDAS FEMPA PARA MODERNIZACIÓN E MELLORA DE EQUIPAMENTO E INFRAESTRUTURAS 🛠️🏗
DESCRIPTION:Traballas no sector marítimo-pesqueiro? Queres modernizar os teus equipos ou mellorar as infraestruturas do teu proxecto? Este obradoiro é para ti! ⚓🌊 \n💡 Descubre como acceder ás axudas dispoñibles para avanzar cara a unha maior eficiencia e competitividade. \n📅 Data: 11 de febreiro de 2025 \n⏰ Hora: 16:00 horas \n💻 Modalidade: Online vía Zoom \n🔗 Inscrición: https://shre.ink/bqLG \nNon deixes pasar esta oportunidade para transformar o teu proxecto e levarlo ao seguinte nivel! 🌟
URL:https://rede-esmar.gal/event/%f0%9f%93%a2-obradoiro-formativo-axudas-fempa-para-modernizacion-e-mellora-de-equipamento-e-infraestruturas-%f0%9f%9b%a0%ef%b8%8f%f0%9f%8f%97/
END:VEVENT
END:VCALENDAR