BEGIN:VCALENDAR
VERSION:2.0
PRODID:-//ES·MAR - ECPv6.13.2.1//NONSGML v1.0//EN
CALSCALE:GREGORIAN
METHOD:PUBLISH
X-ORIGINAL-URL:https://rede-esmar.gal
X-WR-CALDESC:Events for ES·MAR
REFRESH-INTERVAL;VALUE=DURATION:PT1H
X-Robots-Tag:noindex
X-PUBLISHED-TTL:PT1H
BEGIN:VTIMEZONE
TZID:Europe/Paris
BEGIN:DAYLIGHT
TZOFFSETFROM:+0100
TZOFFSETTO:+0200
TZNAME:CEST
DTSTART:20250330T010000
END:DAYLIGHT
BEGIN:STANDARD
TZOFFSETFROM:+0200
TZOFFSETTO:+0100
TZNAME:CET
DTSTART:20251026T010000
END:STANDARD
END:VTIMEZONE
BEGIN:VEVENT
DTSTART;TZID=Europe/Paris:20250401T180000
DTEND;TZID=Europe/Paris:20250401T193000
DTSTAMP:20260420T115528
CREATED:20250331T081125Z
LAST-MODIFIED:20250331T081125Z
UID:2085-1743530400-1743535800@rede-esmar.gal
SUMMARY:Estratexia en redes sociais para empresas do sector do mar
DESCRIPTION:¿Queres mellorar a presenza dixital do teu negocio vinculado ao mar? Este obradoiro é para ti!\nAprende a crear unha estratexia en redes sociais efectiva\, pensada especialmente para empresas do sector mariño: comunicación\, visibilidade e posicionamento en plataformas como Instagram\, Facebook ou LinkedIn. \n📅 Data: Martes\, 01 de abril\n⏰ Hora: 17:00 h\n📍 Modalidade: Presencial\n📌 Lugar: C/ María\, Nº117 – Baixo – Ferrol\n📝 Inscrición aquí
URL:https://rede-esmar.gal/event/estratexia-en-redes-sociais-para-empresas-do-sector-do-mar/
LOCATION:oficina de ferrol
ATTACH;FMTTYPE=image/png:https://rede-esmar.gal/wp-content/uploads/2025/03/9-e1743412269212.png
END:VEVENT
BEGIN:VEVENT
DTSTART;TZID=Europe/Paris:20250403T140000
DTEND;TZID=Europe/Paris:20250403T153000
DTSTAMP:20260420T115528
CREATED:20250331T081533Z
LAST-MODIFIED:20250331T081533Z
UID:2095-1743688800-1743694200@rede-esmar.gal
SUMMARY:Internacionalización de produtos pesqueiros
DESCRIPTION:Tes un produto pesqueiro e queres levalo máis alá das nosas fronteiras? Este obradoiro é para ti! ✈️📦\nExplora as claves para abrir novos mercados\, adaptarte a esixencias internacionais e impulsar a competitividade do teu produto no exterior.\n📅 Data: Xoves\, 03 de abril\n⏰ Hora: 13:00 h\n📍 Modalidade: Presencial\n📌 Lugar: Rúa Irmandiños\, Nº8 – Baixo – 36201 Vigo\n📝 Inscrición aquí
URL:https://rede-esmar.gal/event/internacionalizacion-de-produtos-pesqueiros/
ATTACH;FMTTYPE=image/png:https://rede-esmar.gal/wp-content/uploads/2025/03/10-e1743412519563.png
END:VEVENT
BEGIN:VEVENT
DTSTART;TZID=Europe/Paris:20250408T140000
DTEND;TZID=Europe/Paris:20250408T153000
DTSTAMP:20260420T115528
CREATED:20250331T081756Z
LAST-MODIFIED:20250331T082809Z
UID:2097-1744120800-1744126200@rede-esmar.gal
SUMMARY:Axudas para o desenvolvemento tecnolóxico e a innovación mediante intelixencia artificial
DESCRIPTION:Queres modernizar o teu negocio e mellorar a competitividade mediante a IA? Este obradoiro achegarache toda a información sobre a liña de axudas IG408M! 🧠📈\nDescubre como aproveitar estas subvencións para aplicar solucións intelixentes nos procesos do teu negocio\, mellorar a eficiencia e dar un paso cara ao futuro dixital.\n📅 Data: Martes\, 08 de abril\n⏰ Hora: 13:00 h\n💻 Modalidade: Online\n📝 Inscrición aquí
URL:https://rede-esmar.gal/event/axudas-para-o-desenvolvemento-tecnoloxico-e-a-innovacion-mediante-intelixencia-artificial/
ATTACH;FMTTYPE=image/png:https://rede-esmar.gal/wp-content/uploads/2025/03/11-1-e1743412667607.png
END:VEVENT
BEGIN:VEVENT
DTSTART;TZID=Europe/Paris:20250422T140000
DTEND;TZID=Europe/Paris:20250422T153000
DTSTAMP:20260420T115528
CREATED:20250331T082037Z
LAST-MODIFIED:20250331T082855Z
UID:2099-1745330400-1745335800@rede-esmar.gal
SUMMARY:Mellora da eficiencia operativa da túa empresa
DESCRIPTION:¿Queres optimizar procesos\, reducir custos e mellorar a rendibilidade da túa empresa? Este obradoiro achegarache ferramentas e estratexias prácticas para conseguilo! 🚀💼\nAprenderás a identificar puntos de mellora e aplicar metodoloxías que impulsen a eficiencia no día a día da túa empresa.\n📅 Data: Martes\, 22 de abril\n⏰ Hora: 13:00 h\n📍 Modalidade: Presencial\n📌 Lugar: Rúa Rosalía de Castro\, Nº37 – 36001 Pontevedra\n📝 Inscrición aquí
URL:https://rede-esmar.gal/event/mellora-da-eficiencia-operativa-da-tua-empresa/
ATTACH;FMTTYPE=image/png:https://rede-esmar.gal/wp-content/uploads/2025/03/13-1-e1743412832675.png
END:VEVENT
BEGIN:VEVENT
DTSTART;TZID=Europe/Paris:20250424T173000
DTEND;TZID=Europe/Paris:20250424T190000
DTSTAMP:20260420T115528
CREATED:20250331T082428Z
LAST-MODIFIED:20250422T162831Z
UID:2101-1745515800-1745521200@rede-esmar.gal
SUMMARY:Xestión de axudas para empresas do sector do mar
DESCRIPTION:¿Sabes que axudas están dispoñibles para a túa empresa? ¿Queres aprender a solicitalas de forma efectiva? Este obradoiro é para ti! 📝📈\nCoñecerás as principais liñas de apoio e aprenderás a xestionalas paso a paso\, resolvendo dúbidas e mellorando o acceso aos fondos.\n📅 Data: Xoves\, 24 de abril\n⏰ Hora: 16:30 h\n📍 Modalidade: Presencial\n📌 Lugar: C/ Lavandeiras\, Nº6 – 27863 Viveiro (Lugo) \n\n  Inscrición aquí
URL:https://rede-esmar.gal/event/xestion-de-axudas-para-empresas-do-sector-do-mar/
ATTACH;FMTTYPE=image/png:https://rede-esmar.gal/wp-content/uploads/2025/03/14-e1743413030596.png
END:VEVENT
BEGIN:VEVENT
DTSTART;TZID=Europe/Paris:20250430T163000
DTEND;TZID=Europe/Paris:20250430T180000
DTSTAMP:20260420T115528
CREATED:20250331T082704Z
LAST-MODIFIED:20250430T082541Z
UID:2103-1746030600-1746036000@rede-esmar.gal
SUMMARY:Metodoloxía de desenvolvemento e implementación da imaxe de marca en produtos pesqueiros
DESCRIPTION:¿Queres que o teu produto pesqueiro destaque no mercado? Aprende a construír unha marca sólida\, recoñecible e con valor engadido! 🌟📦\nDescobre como definir a identidade visual e estratéxica da túa marca\, conectar co consumidor e posicionarte de forma diferenciada.\n📅 Data: Mércores\, 30 de abril\n⏰ Hora: 16:30 h\n💻 Modalidade: Online \n\n  Inscrición aquí
URL:https://rede-esmar.gal/event/metodoloxia-de-desenvolvemento-e-implementacion-da-imaxe-de-marca-en-produtos-pesqueiros/
ATTACH;FMTTYPE=image/png:https://rede-esmar.gal/wp-content/uploads/2025/03/15.png
END:VEVENT
END:VCALENDAR