BEGIN:VCALENDAR
VERSION:2.0
PRODID:-//ES·MAR - ECPv6.13.2.1//NONSGML v1.0//EN
CALSCALE:GREGORIAN
METHOD:PUBLISH
X-ORIGINAL-URL:https://rede-esmar.gal
X-WR-CALDESC:Events for ES·MAR
REFRESH-INTERVAL;VALUE=DURATION:PT1H
X-Robots-Tag:noindex
X-PUBLISHED-TTL:PT1H
BEGIN:VTIMEZONE
TZID:Europe/Paris
BEGIN:DAYLIGHT
TZOFFSETFROM:+0100
TZOFFSETTO:+0200
TZNAME:CEST
DTSTART:20250330T010000
END:DAYLIGHT
BEGIN:STANDARD
TZOFFSETFROM:+0200
TZOFFSETTO:+0100
TZNAME:CET
DTSTART:20251026T010000
END:STANDARD
END:VTIMEZONE
BEGIN:VEVENT
DTSTART;TZID=Europe/Paris:20251104T103000
DTEND;TZID=Europe/Paris:20251104T120000
DTSTAMP:20260420T002703
CREATED:20251027T165053Z
LAST-MODIFIED:20251027T165053Z
UID:14700-1762252200-1762257600@rede-esmar.gal
SUMMARY:Emprendemento en acuicultura en Galicia
DESCRIPTION:🐟 Tes unha idea de negocio no sector da acuicultura? Este obradoiro axudarache a poñela en marcha con ferramentas e recursos clave. \n📅 Cando? Martes\, 4 de novembro\n🕥 Hora: 10:30\n💻 Modalidade: Online vía Zoom \nInscrición aquí
URL:https://rede-esmar.gal/event/emprendemento-en-acuicultura-en-galicia/
ATTACH;FMTTYPE=image/png:https://rede-esmar.gal/wp-content/uploads/2025/10/0411.png
END:VEVENT
BEGIN:VEVENT
DTSTART;TZID=Europe/Paris:20251106T100000
DTEND;TZID=Europe/Paris:20251106T113000
DTSTAMP:20260420T002703
CREATED:20251027T165337Z
LAST-MODIFIED:20251027T165337Z
UID:14704-1762423200-1762428600@rede-esmar.gal
SUMMARY:Transformación dixital no sector pesqueiro
DESCRIPTION:💻 Descubre como a dixitalización pode mellorar a eficiencia\, trazabilidade e sustentabilidade no sector pesqueiro. \n📅 Cando? Xoves\, 6 de novembro\n🕙 Hora: 10:00\n💻 Modalidade: Online vía Zoom \nInscrición aquí
URL:https://rede-esmar.gal/event/transformacion-dixital-no-sector-pesqueiro-2/
ATTACH;FMTTYPE=image/png:https://rede-esmar.gal/wp-content/uploads/2025/10/0611.png
END:VEVENT
BEGIN:VEVENT
DTSTART;TZID=Europe/Paris:20251111T100000
DTEND;TZID=Europe/Paris:20251111T113000
DTSTAMP:20260420T002703
CREATED:20251027T171648Z
LAST-MODIFIED:20251107T094044Z
UID:14713-1762855200-1762860600@rede-esmar.gal
SUMMARY:Finanzas e fiscalidade en confrarías\, asociacións do mar e OPP
DESCRIPTION:📊 Aprende a xestionar mellor os recursos económicos e fiscais das organizacións do mar para garantir a súa sustentabilidade e eficiencia. \n📅 Cando? Martes\, 11 de novembro\n🕥 Hora: 10:00\n📍 Lugar: Oficina da Coruña – Rúa Costa da Palloza\, Nº1 – 2º Dereita – Local 3 – 15006 \nInscrición aquí
URL:https://rede-esmar.gal/event/finanzas-e-fiscalidade-en-confrarias-asociacions-do-mar-e-opp/
ATTACH;FMTTYPE=image/png:https://rede-esmar.gal/wp-content/uploads/2025/10/OBRADOIRO-FORMATIVO-INNOVACION-NO-SECTOR-DO-MAR-1-1.png
END:VEVENT
BEGIN:VEVENT
DTSTART;TZID=Europe/Paris:20251113T100000
DTEND;TZID=Europe/Paris:20251113T113000
DTSTAMP:20260420T002703
CREATED:20251027T173300Z
LAST-MODIFIED:20251027T173300Z
UID:14717-1763028000-1763033400@rede-esmar.gal
SUMMARY:Innovación na conservación do produto do mar fresco
DESCRIPTION:🌊Descubre novas técnicas e solucións innovadoras para mellorar a conservación do produto do mar fresco e garantir a súa calidade. \n📅 Cando? Xoves\, 13 de novembro\n🕙 Hora: 10:00\n📍 Lugar: Oficina de Pontevedra – Rúa Rosalía de Castro\, Nº37 – 36001 Pontevedra \nInscrición aquí
URL:https://rede-esmar.gal/event/innovacion-na-conservacion-do-produto-do-mar-fresco/
ATTACH;FMTTYPE=image/png:https://rede-esmar.gal/wp-content/uploads/2025/10/1311.png
END:VEVENT
BEGIN:VEVENT
DTSTART;TZID=Europe/Paris:20251127T103000
DTEND;TZID=Europe/Paris:20251127T120000
DTSTAMP:20260420T002703
CREATED:20251027T164553Z
LAST-MODIFIED:20251027T165047Z
UID:14696-1764239400-1764244800@rede-esmar.gal
SUMMARY:Axudas FEMPA para a transformación de produtos do mar
DESCRIPTION:🦐 Coñece as oportunidades de financiamento dispoñibles a través das axudas FEMPA para impulsar a transformación sostible dos produtos do mar. \n📅 Cando? Xoves\, 27 de novembro\n🕥 Hora: 10:30\n💻 Modalidade: Online vía Zoom \nInscrición aquí
URL:https://rede-esmar.gal/event/axudas-fempa-para-a-transformacion-de-produtos-do-mar/
ATTACH;FMTTYPE=image/png:https://rede-esmar.gal/wp-content/uploads/2025/10/2711.png
END:VEVENT
END:VCALENDAR