BEGIN:VCALENDAR
VERSION:2.0
PRODID:-//ES·MAR - ECPv6.13.2.1//NONSGML v1.0//EN
CALSCALE:GREGORIAN
METHOD:PUBLISH
X-WR-CALNAME:ES·MAR
X-ORIGINAL-URL:https://rede-esmar.gal
X-WR-CALDESC:Events for ES·MAR
REFRESH-INTERVAL;VALUE=DURATION:PT1H
X-Robots-Tag:noindex
X-PUBLISHED-TTL:PT1H
BEGIN:VTIMEZONE
TZID:Europe/Paris
BEGIN:DAYLIGHT
TZOFFSETFROM:+0100
TZOFFSETTO:+0200
TZNAME:CEST
DTSTART:20250330T010000
END:DAYLIGHT
BEGIN:STANDARD
TZOFFSETFROM:+0200
TZOFFSETTO:+0100
TZNAME:CET
DTSTART:20251026T010000
END:STANDARD
END:VTIMEZONE
BEGIN:VEVENT
DTSTART;TZID=Europe/Paris:20251204T103000
DTEND;TZID=Europe/Paris:20251204T120000
DTSTAMP:20260419T223724
CREATED:20251125T085703Z
LAST-MODIFIED:20251125T085703Z
UID:14791-1764844200-1764849600@rede-esmar.gal
SUMMARY:Axudas FEMPA para a restauración da biodiversidade e dos ecosistemas mariños (PE209B)
DESCRIPTION:🌊 Infórmate sobre como acceder ás axudas para restaurar a biodiversidade e garantir un modelo sostible no marco da Economía Azul. \n📅 Cando? Xoves\, 4 de decembro\n🕥 Hora: 10:30\n💻 Modalidade: Online vía Zoom \nInscrición aquí
URL:https://rede-esmar.gal/event/axudas-fempa-para-a-restauracion-da-biodiversidade-e-dos-ecosistemas-marinos-pe209b/
ATTACH;FMTTYPE=image/png:https://rede-esmar.gal/wp-content/uploads/2025/11/0412.png
END:VEVENT
BEGIN:VEVENT
DTSTART;TZID=Europe/Paris:20251211T100000
DTEND;TZID=Europe/Paris:20251211T113000
DTSTAMP:20260419T223724
CREATED:20251125T093128Z
LAST-MODIFIED:20251125T093128Z
UID:14795-1765447200-1765452600@rede-esmar.gal
SUMMARY:Novas obrigas de facturación: VERI*FACTU
DESCRIPTION:📑 Prepárate para implementar Verifactu no teu negocio e coñecer o seu funcionamento. \n📅 Cando? Xoves\, 11 de decembro\n🕙 Hora: 10:00\n💻 Modalidade: Online vía Zoom \nInscrición aquí
URL:https://rede-esmar.gal/event/novas-obrigas-de-facturacion-verifactu/
ATTACH;FMTTYPE=image/png:https://rede-esmar.gal/wp-content/uploads/2025/11/1112.png
END:VEVENT
BEGIN:VEVENT
DTSTART;TZID=Europe/Paris:20251216T103000
DTEND;TZID=Europe/Paris:20251216T120000
DTSTAMP:20260419T223724
CREATED:20251125T093518Z
LAST-MODIFIED:20251125T093518Z
UID:14798-1765881000-1765886400@rede-esmar.gal
SUMMARY:Axudas FEMPA para a modernización de equipamentos e infraestruturas (PE209G)
DESCRIPTION:🔧 Coñece as oportunidades para modernizar instalacións e equipos no sector do mar mediante as axudas FEMPA. \n📅 Cando? Martes\, 16 de decembro\n🕥 Hora: 10:30\n💻 Modalidade: Online vía Zoom \nInscrición aquí
URL:https://rede-esmar.gal/event/axudas-fempa-para-a-modernizacion-de-equipamentos-e-infraestruturas-pe209g/
ATTACH;FMTTYPE=image/png:https://rede-esmar.gal/wp-content/uploads/2025/11/1612.png
END:VEVENT
BEGIN:VEVENT
DTSTART;TZID=Europe/Paris:20251218T103000
DTEND;TZID=Europe/Paris:20251218T120000
DTSTAMP:20260419T223724
CREATED:20251125T094114Z
LAST-MODIFIED:20251125T094114Z
UID:14801-1766053800-1766059200@rede-esmar.gal
SUMMARY:Axudas FEMPA á rexeneración dos bancos marisqueiros con perdas de produtividade (PE209H)
DESCRIPTION:🐚 Mantente informado sobre as axudas para recuperar a produtividade dos bancos marisqueiros e garantir a sostibilidade do sector. \n📅 Cando? Xoves\, 18 de decembro\n🕥 Hora: 10:30\n📍 Lugar: Oficina de Vilagarcía de Arousa – Centro de Negocios Garabullla Coworking\, Edificio Lara (Praza Galicia)\, Planta 2\, Módulo 5 \nInscrición aquí
URL:https://rede-esmar.gal/event/axudas-fempa-a-rexeneracion-dos-bancos-marisqueiros-con-perdas-de-produtividade-pe209h/
ATTACH;FMTTYPE=image/png:https://rede-esmar.gal/wp-content/uploads/2025/11/1812.png
END:VEVENT
BEGIN:VEVENT
DTSTART;TZID=Europe/Paris:20251222T103000
DTEND;TZID=Europe/Paris:20251222T120000
DTSTAMP:20260419T223724
CREATED:20251218T111054Z
LAST-MODIFIED:20251218T111054Z
UID:14898-1766399400-1766404800@rede-esmar.gal
SUMMARY:Axudas FEMPA para plans de producción e comercilalización de OPP e AOP (PE155C)
DESCRIPTION:🐟 Aprende todo o que debes saber sobre as subvencións para plans de produción e comercialización de OPP e AOP ao abeiro das axudas FEMPA. \n📅 Cando? Luns\, 22 de decembro\n🕥 Hora: 10:30\n💻 Modalidade: Online vía Zoom \nInscrición aquí
URL:https://rede-esmar.gal/event/axudas-fempa-para-plans-de-produccion-e-comercilalizacion-de-opp-e-aop-pe155c/
ATTACH;FMTTYPE=image/png:https://rede-esmar.gal/wp-content/uploads/2025/12/2212.png
END:VEVENT
BEGIN:VEVENT
DTSTART;TZID=Europe/Paris:20251223T100000
DTEND;TZID=Europe/Paris:20251223T113000
DTSTAMP:20260419T223724
CREATED:20251125T094611Z
LAST-MODIFIED:20251125T094611Z
UID:14804-1766484000-1766489400@rede-esmar.gal
SUMMARY:Axudas FEMPA para buques pesqueiros
DESCRIPTION:⚓ Coñece as características das axudas FEMPA enfocadas aos buques pesqueiros. \n📅 Cando? Martes\, 23 de decembro\n🕙 Hora: 10:00\n💻 Modalidade: Online vía Zoom \nInscrición aquí
URL:https://rede-esmar.gal/event/axudas-fempa-para-buques-pesqueiros-2/
ATTACH;FMTTYPE=image/png:https://rede-esmar.gal/wp-content/uploads/2025/11/2312.png
END:VEVENT
BEGIN:VEVENT
DTSTART;TZID=Europe/Paris:20251230T100000
DTEND;TZID=Europe/Paris:20251230T113000
DTSTAMP:20260419T223724
CREATED:20251125T094813Z
LAST-MODIFIED:20251226T092604Z
UID:14807-1767088800-1767094200@rede-esmar.gal
SUMMARY:Tramitación de solicitudes de axudas FEMPA
DESCRIPTION:📝 Aprende os pasos clave para tramitar correctamente as solicitudes das axudas FEMPA e aproveitar todas as oportunidades. \n📅 Cando? Martes\, 30 de decembro\n🕙 Hora: 10:00\n💻 Modalidade: Online vía Zoom \nInscrición aquí
URL:https://rede-esmar.gal/event/tramitacion-de-solicitudes-de-axudas-fempa-2/
ATTACH;FMTTYPE=image/png:https://rede-esmar.gal/wp-content/uploads/2025/11/3012-1.png
END:VEVENT
END:VCALENDAR